BEGIN:VCALENDAR
VERSION:2.0
PRODID:-//jEvents 1.5 for Joomla//EN
CALSCALE:GREGORIAN
METHOD:PUBLISH
BEGIN:VEVENT

UID:24229e9c6fc1f48df7e7a781674148c3
CATEGORIES:Swirl
SUMMARY:3-Course Valentine's Dinner
LOCATION:Swirl Wine Club . Shop . Bar
DESCRIPTION;ENCODING=QUOTED-PRINTABLE:<p style="text-align: center;"> </p><p class="MsoNormal" style="margin-bott
 om: 0in; text-align: center;"><span style="font-size: 24.0pt; font-family: 
 ">Special Valentine’s Dinner </span></p><p class="MsoNormal" style="margin-
 bottom: 0in; text-align: center;"><span style="font-size: 24.0pt; font-fami
 ly: "><span style="mso-spacerun: yes;"> </span>at Swirl</span><span style="
 font-size: 9.0pt; font-family: "> </span></p><p class="MsoNormal" style="ma
 rgin-bottom: 0in; text-align: center; line-height: 15.6pt;" align="center">
  </p><p class="MsoNormal" style="margin-bottom: 0in; text-align: center; li
 ne-height: 15.6pt;" align="center"><span style="font-size: 14.0pt; font-fam
 ily: ">3-Course dinner + hors d’oeuvre & sparkling wine reception</span></p
 ><p class="MsoNormal" style="margin-bottom: 0in; text-align: center; line-h
 eight: 15.6pt;" align="center"><span style="font-size: 14.0pt; font-family:
  ">Two Seatings: 5:00pm or 7:30pm</span></p><p class="MsoNormal" style="mar
 gin-bottom: 0in; text-align: center; line-height: 15.6pt;" align="center"><
 span style="font-size: 14.0pt; font-family: ">Saturday February 14<sup>th</
 sup>, 2026</span></p><p class="MsoNormal" style="margin-bottom: 0in; text-a
 lign: center; line-height: 15.6pt;" align="center"><span style="font-size: 
 14.0pt; font-family: "><br /></span></p><p class="MsoNormal" style="margin-
 bottom: 0in; text-align: center; mso-line-height-alt: 15.6pt;" align="cente
 r"><span style="font-size: 20.0pt; font-family: "> </span></p><p class="Mso
 Normal" style="margin-bottom: 0in; text-align: center; mso-line-height-alt:
  15.6pt;" align="center"><span style="font-size: 20.0pt; font-family: ">Pri
 x Fixe Menu:</span></p><p class="MsoNormal" style="margin-bottom: 0in; text
 -align: center; line-height: 15.6pt;" align="center"><span style="font-size
 : 9.0pt; font-family: "> </span></p><p class="MsoNormal" style="margin-bott
 om: 0in; text-align: center; line-height: 15.6pt;" align="center"><span sty
 le="font-size: 9.0pt; font-family: "> </span></p><p class="MsoNormal" style
 ="margin-bottom: 0in; text-align: center; line-height: 15.6pt;" align="cent
 er"><span style="font-size: 14.0pt; font-family: ">Welcome Reception</span>
 </p><p class="MsoNormal" style="margin-bottom: 0in; text-align: center; lin
 e-height: 15.6pt;" align="center"><span style="font-size: 12.0pt; font-fami
 ly: ">Chef hors d’oeuvre – sparkling wine</span></p><p class="MsoNormal" st
 yle="margin-bottom: 0in; text-align: center; line-height: 15.6pt;" align="c
 enter"><span style="font-size: 12.0pt; font-family: "><br /></span></p><p c
 lass="MsoNormal" style="margin-bottom: 0in; text-align: center; line-height
 : 15.6pt;" align="center"><span style="font-size: 14.0pt; font-family: "> <
 /span></p><p class="MsoNormal" style="margin-bottom: 0in; text-align: cente
 r; line-height: 15.6pt;" align="center"><span style="font-size: 14.0pt; fon
 t-family: "> </span></p><p class="MsoNormal" style="margin-bottom: 0in; tex
 t-align: center;" align="center"><span style="font-size: 14.0pt; line-heigh
 t: 107%; font-family: ">Shrimp Dijon</span></p><p class="MsoNormal" style="
 margin-bottom: 0in; text-align: center;" align="center"><span style="font-s
 ize: 12.0pt; line-height: 107%; font-family: ">crostini, shrimp, garlic, wo
 rcestershire, shallots, dijon, white wine reduction, brandy</span></p><p cl
 ass="MsoNoSpacing" style="text-align: center;" align="center"><span style="
 font-size: 14.0pt; font-family: "> </span></p><p class="MsoNoSpacing" style
 ="text-align: center;" align="center"> </p><p class="MsoNoSpacing" style="t
 ext-align: center;" align="center"><span style="font-size: 14.0pt; font-fam
 ily: "><br /> </span><span style="font-size: 14.0pt; font-family: ">Argenti
 ne Flank steak</span></p><p class="MsoNoSpacing" style="text-align: center;
 " align="center"><span style="font-size: 12.0pt; font-family: ">Argentine g
 rilled flank steak, chimichurri, naan, asparagus, beurre blanc</span><em st
 yle="mso-bidi-font-style: normal;"><span style="font-size: 12.0pt; font-fam
 ily: "> </span></em></p><p class="MsoNormal" style="margin-bottom: 0in; tex
 t-align: center; line-height: 15.6pt;" align="center"><span style="font-siz
 e: 12.0pt; font-family: "> </span></p><p class="MsoNormal" style="margin-bo
 ttom: 0in; text-align: center; line-height: 15.6pt;" align="center"> </p><p
  class="MsoNormal" style="margin-bottom: 0in; text-align: center; line-heig
 ht: 15.6pt;" align="center"><span style="font-size: 14.0pt; font-family: ">
 Dessert<span style="color: #333333;"> </span></span></p><p class="MsoNormal
 " style="margin-bottom: 0in; text-align: center; line-height: 15.6pt;" alig
 n="center"><span style="font-size: 12.0pt; font-family: ">mocha crème brûlé
 e</span></p><p class="MsoNormal" style="margin-bottom: 0in; text-align: cen
 ter; line-height: 15.6pt;" align="center"> </p><p class="MsoNormal" style="
 margin-bottom: 0in; text-align: center; line-height: 15.6pt;" align="center
 "><span style="font-size: 12pt;">$60 per person</span></p><p class="MsoNorm
 al" style="margin-bottom: 0in; text-align: center; line-height: 15.6pt;" al
 ign="center"><span style="font-size: 9.0pt; font-family: "> </span></p><p c
 lass="MsoNormal" style="margin-bottom: 0in; text-align: center; line-height
 : 15.6pt;" align="center"><span style="font-size: 9.0pt; font-family: "> </
 span></p><p class="MsoNormal" style="margin-bottom: 0in; text-align: center
 ; line-height: 15.6pt;" align="center"><span style="font-size: 12.0pt; font
 -family: ">Reservations required by calling 651-436-8883</span></p><p class
 ="MsoNormal" style="margin-bottom: 0in; text-align: center; line-height: 15
 .6pt;" align="center"><strong><span style="font-size: 12.0pt; font-family: 
 ">Jacuzzi & Fireplace rooms are available to make your evening complete</sp
 an></strong><span style="font-size: 12.0pt; font-family: "> </span></p><p> 
 </p>
CONTACT:651-436-8883

DTSTAMP:20260419T162426Z
DTSTART:20260214T230000Z
DTEND:20260215T030000Z
SEQUENCE:0
TRANSP:OPAQUE
END:VEVENT
END:VCALENDAR