BEGIN:VCALENDAR
VERSION:2.0
PRODID:-//jEvents 1.5 for Joomla//EN
CALSCALE:GREGORIAN
METHOD:PUBLISH
BEGIN:VEVENT

UID:e9a5617bdc116d2eca3a0ae47dc5b8bb
CATEGORIES:Swirl
SUMMARY:NY's Eve 3-Course Dinner
LOCATION:
DESCRIPTION;ENCODING=QUOTED-PRINTABLE:New Year's Eve at  \n  Swirl Wine Bar\n\n \n3 Course Pre-fixe dinner  \n  T
 wo seatings: 5pm or 7:30pm \n  \n  Prix     Fixe Menu: \n  \nWelcome Recept
 ion \nphyllo - salmon tarragon pâté – sparkling wine \n  \nSalad \norganic 
 greens - fig vinaigrette - toasted pine nuts –     shaved grana padano \n \
 nEntrée \n5oz grilled filet mignon – red wine demi – crushed yukon     gold
  potato – \nasparagus – champagne sabayon \n \nDessert \nchocolate torte - 
 vanilla bean crème anglaise - berry\n\n\n \n$65 per person \n  \n  CALL 651
 -436-8883\n

DTSTAMP:20260419T193758Z
DTSTART:20251231T230000Z
DTEND:20260101T040000Z
SEQUENCE:0
TRANSP:OPAQUE
END:VEVENT
END:VCALENDAR