BEGIN:VCALENDAR
VERSION:2.0
PRODID:-//jEvents 1.5 for Joomla//EN
CALSCALE:GREGORIAN
METHOD:PUBLISH
BEGIN:VEVENT

UID:02936645c9d0d828eeb9f7b4e2c4cd2a
CATEGORIES:Swirl
SUMMARY:Live Music - Gary LaRue
LOCATION:Swirl Wine Club . Shop . Bar
DESCRIPTION;ENCODING=QUOTED-PRINTABLE:Live Music with Gary LaRue\n6-9pm\n1st Thursday of every month in 2025:\n \
 n \n2025 Dates for Gary LaRue (1st Thursday of every month): \n \nThursday 
 February 6th \nThursday March 6th\nThursday April 3rd\nThursday May 1st\nTh
 ursday June 5th\nThursday July 3rd\nThursday August 7th \nThursday Septembe
 r 4th\nThursday October 2nd\nThursday November 6th\nThursday December 4th\n
  \nReservations for inside tables: Call 651-436-8883\nor email 
 
 
 
 
 Th
 is e-mail address is being protected from spambots. You need JavaScript ena
 bled to view it
 
 
  \n\n\n \n
CONTACT:651-436-8883

DTSTAMP:20260420T113450Z
DTSTART:20250207T000000Z
DTEND:20250207T030000Z
SEQUENCE:0
TRANSP:OPAQUE
END:VEVENT
END:VCALENDAR