BEGIN:VCALENDAR
VERSION:2.0
PRODID:-//jEvents 1.5 for Joomla//EN
CALSCALE:GREGORIAN
METHOD:PUBLISH
BEGIN:VEVENT

UID:d69b5b17367bbebbd1e7c7ec022a881d
CATEGORIES:Swirl
SUMMARY:Sweetheart Wine Dinner
LOCATION:
DESCRIPTION;ENCODING=QUOTED-PRINTABLE: \nSweetheart 5-course Wine Dinner\nWednesday February 12th, 2025\nAt The H
 istoric Afton House Inn\n6pm reception\n \nReception \n butler passed horsd
 ’oeuvres & sparkling wine   \nBaked Brie Charcuterie\nwarm brie, lavender i
 nfused honey, fig chutney, \nprosciutto, crostini, lavosh, roasted almonds 
 \n Wine Pairing: Chateau d’Esclans ‘Whispering Angel’ Rose’ – Provence, Fra
 nce \n \n  \nLobster Arancini & Risotto Duo\n  lobster, saffron, risotto, g
 rana padano, panko \nWine Pairing: J Vineyards Estate Pinot Gris – Russian 
 River Valley, Sonoma, California \n \n \nPassion fruit Sorbet Intermission 
  \n \nParisian Filet Mignon\ntenderloin filet, asparagus hashbrowns, béarna
 ise, eiffel tower-spiral leeks, love \nWine Pairing: Force & Grace Cabernet
  Sauvignon – Paso Robles, California\n \n \nLovers Chocolate\nflourless cho
 colate torte, warm hazelnut anglaise, fresh raspberries, honey-cognac infus
 ed whip cream\nWine Pairing: Ancient Peaks ‘Santa Margarita Ranch’ Zinfande
 l – Paso Robles, California\n \n \n$99 per person + 20% Staff Service Grati
 tude\nReservations 651-436-8883\n\n\n \n

DTSTAMP:20260420T113450Z
DTSTART:20250213T000000Z
DTEND:20250213T030000Z
SEQUENCE:0
TRANSP:OPAQUE
END:VEVENT
END:VCALENDAR