BEGIN:VCALENDAR
VERSION:2.0
PRODID:-//jEvents 1.5 for Joomla//EN
CALSCALE:GREGORIAN
METHOD:PUBLISH
BEGIN:VEVENT

UID:5f8515f34c4605f0615db8b8829cc7b2
CATEGORIES:Swirl
SUMMARY:Valentines 3-Course Dinner
LOCATION:3291 St. Croix Trail S. Afton, MN 55001
DESCRIPTION;ENCODING=QUOTED-PRINTABLE:<p style="text-align: center;"><strong>3-Course dinner + hors d’oeuvre & sp
 arkling wine reception</strong></p><p style="text-align: center;">Two Seati
 ngs: 5:00pm or 7:30pm</p><p style="text-align: center;">Friday February 14t
 h, 2025</p><p style="text-align: center;"><strong>Prix Fixe Menu:</strong><
 /p><p style="text-align: center;">Welcome Reception</p><p style="text-align
 : center;">Chef hors d’oeuvre – sparkling wine</p><p style="text-align: cen
 ter;"><strong>Salad</strong></p><p style="text-align: center;">organic gree
 ns – leeks – gorgonzola crostini – purple orchid vinaigrette</p><p style="t
 ext-align: center;"><strong>NY Strip Entrée </strong></p><p style="text-ali
 gn: center;">grilled striploin – demi - lobster crushed potatoes – spinach 
 rockefeller</p><p style="text-align: center;"><strong>Dessert </strong></p>
 <p style="text-align: center;">flourless chocolate tort – smashed strawberr
 ies – tahitian vanilla - crème fraîche</p><p style="text-align: center;">$6
 5 per person</p><p style="text-align: center;">Gratuity not included</p><p 
 style="text-align: center;">Hosted by owner Dave Jarvis + former head chef 
 Ryan Kaliher</p><p style="text-align: center;">Reservations required by cal
 ling 651-436-8883</p><p style="text-align: center;">Jacuzzi & Fireplace roo
 ms are available to make your evening complete<br />visit www.aftonhouseinn
 .com</p>
CONTACT:651-436-8883

DTSTAMP:20260420T114222Z
DTSTART:20250214T230000Z
DTEND:20250215T030000Z
SEQUENCE:0
TRANSP:OPAQUE
END:VEVENT
END:VCALENDAR