BEGIN:VCALENDAR
VERSION:2.0
PRODID:-//jEvents 1.5 for Joomla//EN
CALSCALE:GREGORIAN
METHOD:PUBLISH
BEGIN:VEVENT

UID:f2d4525491a54ae6ccdbb9605047050d
CATEGORIES:Swirl
SUMMARY:VIP Tasting - Chile
LOCATION:Swirl Wine Club . Shop. Bar
DESCRIPTION;ENCODING=QUOTED-PRINTABLE: \n            \n            Nikki Erpelding\n     \n      \n      \n Click
  HERE to get Tickets Now!\n  \n Featured Wines:\n  \n Sparkling       Recep
 tion \n *\n Sauvignon       Blanc\n *\n Chardonnay\n *\n Rose'\n *\n Las Mu
 las       Cab\n *\n Cordillera       Cab\n *\n Carmenere\n  \n             
 VIP Tasting Event\n Featuring wines from Chile \n with Nikki Erpelding\n  \
 n Tuesday May 25th \n 6:00 - 8:00pm at Swirl\n     \n       \n    We are ex
 cited to welcome Nikki to Swirl for our       first VIP tasting event in ov
 er 14-months! Nikki will share some       great stories and lead us through
  an exploration and tasting       of six beautiful wines from Miguel Torres
  Wines in Chile. Get       ready to smile, sip, learn and laugh!\n  \n Spar
 kling wine reception at 6pm\n *\n Seated tasting of 6 wines from       6:30
  - 8:00pm, a discussion with Nikki, and of course a great time!\n     \n   
     \n    Get Tickets HERE!!\n \n $25 per person\n strict max of up to 26 p
 pl\n           \n
CONTACT:
 
 
 
 
 This e-mail address is being protected from spambots. You need JavaScript enabled to view it
 
 
 

DTSTAMP:20260423T062822Z
DTSTART:20210525T230000Z
DTEND:20210526T010000Z
SEQUENCE:0
TRANSP:OPAQUE
END:VEVENT
END:VCALENDAR