BEGIN:VCALENDAR
VERSION:2.0
PRODID:-//jEvents 1.5 for Joomla//EN
CALSCALE:GREGORIAN
METHOD:PUBLISH
BEGIN:VEVENT

UID:6d8e80b447deed09e0f99b216c9830f0
CATEGORIES:Swirl
SUMMARY:Thankgiving ToGo
LOCATION:
DESCRIPTION;ENCODING=QUOTED-PRINTABLE: \nThanksgiving Dinner To GO\n \nWednesday November 25th \n \n \n \n\n Pick
  up on Wednesday November 25th, 2020 from 3-8pm\n Call 651-436-8883 to plac
 e your order today!\n \n \n \nPackage 1: 4-6 Guests $130\n \nIncludes:\n \n
  5 lbs Sliced turkey 2 lbs Mashed potatoes 1/2 quart Gravy 2 lbs Dressing 1
  lb Sweet potatoes 1.5 lbs Green bean almondine 8 oz Cranberries 9 Dinner r
 olls Choice of 1 pie: pecan,      pumpkin, or Dutch apple   \n \n \nPackage
  2: 10-12 guests $225.00\n \nIncludes:\n \n 10-12 lbs Whole turkey 4 lbs Ma
 shed Potatoes 1 Quart Gravy 4 lbs Dressing 2 lbs Sweet potatoes 3 lbs Green
  bean almondine 1 lb Cranberries 18 Dinner rolls Choice of 2 Pies: pecan,  
     pumpkin, or Dutch apple   \n\n Ala Carte: Pies $15 each, 4lbs Mashed Po
 tatoes $12,  – 1 qt Gravy $5\n \n

DTSTAMP:20260423T144452Z
DTSTART:20201125T210000Z
DTEND:20201126T020000Z
SEQUENCE:0
TRANSP:OPAQUE
END:VEVENT
END:VCALENDAR