BEGIN:VCALENDAR
VERSION:2.0
PRODID:-//jEvents 1.5 for Joomla//EN
CALSCALE:GREGORIAN
METHOD:PUBLISH
BEGIN:VEVENT

UID:568a73ff3ff8b02db6af3230239f5668
CATEGORIES:Swirl
SUMMARY:Healthy Wine Virtual Tasting Event
LOCATION:
DESCRIPTION;ENCODING=QUOTED-PRINTABLE:

DTSTAMP:20260423T233131Z
DTSTART:20200502T003000Z
DTEND:20200502T011500Z
SEQUENCE:0
TRANSP:OPAQUE
END:VEVENT
END:VCALENDAR