BEGIN:VCALENDAR
VERSION:2.0
PRODID:-//jEvents 1.5 for Joomla//EN
CALSCALE:GREGORIAN
METHOD:PUBLISH
BEGIN:VEVENT

UID:23491a7d6106d511d6b78c3d70b0c098
CATEGORIES:Swirl
SUMMARY:'18 Brew Cru Pinot Noir Notes
LOCATION:
DESCRIPTION;ENCODING=QUOTED-PRINTABLE:\n \n\n

DTSTAMP:20260419T132118Z
DTSTART:20200409T130000Z
DTEND:20200410T045959Z
SEQUENCE:0
TRANSP:OPAQUE
END:VEVENT
END:VCALENDAR