BEGIN:VCALENDAR
VERSION:2.0
PRODID:-//jEvents 1.5 for Joomla//EN
CALSCALE:GREGORIAN
METHOD:PUBLISH
BEGIN:VEVENT

UID:2150658494499f6c5f932fe89509dcbb
CATEGORIES:Swirl
SUMMARY:Virtual Wine Club Meet Up 7:30pm Date TBD
LOCATION:
DESCRIPTION;ENCODING=QUOTED-PRINTABLE:<p style="text-align: center;">Monthly Wine Club Members Meet-up 6 - 8pm</p
 >

DTSTAMP:20260423T233803Z
DTSTART:20200523T003000Z
DTEND:20200523T003000Z
SEQUENCE:0
TRANSP:OPAQUE
END:VEVENT
END:VCALENDAR