BEGIN:VCALENDAR
VERSION:2.0
PRODID:-//jEvents 1.5 for Joomla//EN
CALSCALE:GREGORIAN
METHOD:PUBLISH
BEGIN:VEVENT

UID:a0d75be2bc796f5a73d88e1902762f6a
CATEGORIES:Swirl
SUMMARY:Wine Club Meet Up
LOCATION:
DESCRIPTION;ENCODING=QUOTED-PRINTABLE:<p style="text-align: center;">Monthly Wine Club Members Meet-up 6 - 8pm</p
 >

DTSTAMP:20260423T221529Z
DTSTART:20200605T230000Z
DTEND:20200606T010000Z
SEQUENCE:0
TRANSP:OPAQUE
END:VEVENT
END:VCALENDAR