BEGIN:VCALENDAR
VERSION:2.0
PRODID:-//jEvents 1.5 for Joomla//EN
CALSCALE:GREGORIAN
METHOD:PUBLISH
BEGIN:VEVENT

UID:739a4cd303956d52dbbdcbd41dda5727
CATEGORIES:Swirl
SUMMARY:Loire Valley, France VIP Tasting
LOCATION:Swirl Wine Club.Shop.Bar
DESCRIPTION;ENCODING=QUOTED-PRINTABLE: \n                 \n                     \n             Kurt Hegland\n  \
 n Learn More about Loire Valley, click HERE\n    \n            \n Click HER
 E to get Tickets Now!\n  \n Featured Wines:\n  \n Brisebarre Brut NV \n *\n
  Brisebarre Vouvray Sec\n *\n Trois Toits Muscadet\n *\n Eric Louis Sancerr
 e\n *\n Eric Louis Pinot Noir\n *\n Chateau de Chaintre\n Les Sables (Saumu
 r-Champigny)\n Cabernet Franc\n  \n  \n          Loire Valley, France VIP T
 asting \n with THE Mr. Kurt Hegland\n  \n Wednesday February 19th, 2020 \n 
 6:00 - 8:00pm at Swirl\n   \n        \n       We are excited to welcome our
  very own Certified       Specialist of Wine and Twin Cities Wine Guru, Mr.
  Kurt Hegland.        Kurt will teach us the lay of the land in the Loire V
 alley and lead       us through an exploration and tasting of six beautiful
        wines stretching from the Atlantic coast to just 2-hours away from P
 aris.       Get ready to smile, sip, laugh, and learn about one of the grea
 test       wine growing regions on earth.\n  \n Chambord Kir Royale Cocktai
 l reception at 6pm\n *\n Seated tasting of 6 wines from 6:30 - 8:00pm, a   
     discussion with Kurt, and of course a great time!\n   \n        \n     
   Get Tickets HERE!!\n \n $25 per person\n     \n
CONTACT:
 
 
 
 
 This e-mail address is being protected from spambots. You need JavaScript enabled to view it
 
 
 

DTSTAMP:20260424T033932Z
DTSTART:20200220T000000Z
DTEND:20200220T020000Z
SEQUENCE:0
TRANSP:OPAQUE
END:VEVENT
END:VCALENDAR