BEGIN:VCALENDAR
VERSION:2.0
PRODID:-//jEvents 1.5 for Joomla//EN
CALSCALE:GREGORIAN
METHOD:PUBLISH
BEGIN:VEVENT

UID:cff4d1cc2b3787e516f81b757e34d6dd
CATEGORIES:Swirl
SUMMARY:Valentine's 3-Course Dinner
LOCATION:Swirl Wine Club.Shop.Bar
DESCRIPTION;ENCODING=QUOTED-PRINTABLE: \nValentine's 3-Course Dinner\n \nwith sparkling wine reception at Swirl\n
  \n \n \nTwo Seating's: 6:00pm or 8:00pm - Friday Feb 14th\n \n \n \n\n \n 
 \n \nPrix Fixe Menu:\n \n \n \nChampagne Reception \n \nWycliff Sparkling\n
  \n \nSalad\n \nOrganic greens with craisins, candied walnuts, Boursin, pop
 py seed dressing\n \n \n \nSurf & Turf\n \n10oz cut of prime rib au jus, su
 garcane shrimp skewer, twice baked potato, asparagus spears \n \n\n Chocola
 te 3-ways\n \nflourless chocolate torte, chocolate mousse with fresh berrie
 s, chocolate truffle\n \n \n \n$45 per person\n \n \nReservations required 
 by calling 651-436-8883\n \n \n \nJacuzzi & Fireplace rooms are available t
 o make your evening complete.\n \n
CONTACT:651-436-8883 or 
 
 
 
 
 This e-mail address is being protected from spambots. You need JavaScript enabled to view it
 
 
 

DTSTAMP:20260424T033934Z
DTSTART:20200215T000000Z
DTEND:20200215T040000Z
SEQUENCE:0
TRANSP:OPAQUE
END:VEVENT
END:VCALENDAR