BEGIN:VCALENDAR
VERSION:2.0
PRODID:-//jEvents 1.5 for Joomla//EN
CALSCALE:GREGORIAN
METHOD:PUBLISH
BEGIN:VEVENT

UID:7cf44ca9e92b19e8aae14f8b895ff0ae
CATEGORIES:Swirl
SUMMARY:NY's Eve 3-course dinner
LOCATION:Swirl Wine Club.Shop.Bar
DESCRIPTION;ENCODING=QUOTED-PRINTABLE: \n \n \n \n \n\n\n    \n Special 3-Course NY's Eve Dinner 2019\n Two Seati
 ng’s: 5:15pm or 7:45pm\n  \n Prix Fixe Menu:\n  \n Salad\n Parmesan, apple,
  apricot, organic field greens, 5-herb vinaigrette \n \n Filet Mignon & Cra
 b Stuffed Tilapia\n 6oz grilled filet mignon, red wine demi, crab stuffed t
 ilapia,   potato parmesan croquets, grilled asparagus\n \n Dessert\n Flourl
 ess   chocolate torte, raspberry coulis, mint\n  \n  \n***\n$54.95 per pers
 on\n Call 651-436-8883 for reservations\n  \n  \n  \nJacuzzi & Fireplace ro
 oms are available to make your evening complete\n \n
CONTACT:651-436-8883

DTSTAMP:20260424T061641Z
DTSTART:20191231T230000Z
DTEND:20200101T040000Z
SEQUENCE:0
TRANSP:OPAQUE
END:VEVENT
END:VCALENDAR