BEGIN:VCALENDAR
VERSION:2.0
PRODID:-//jEvents 1.5 for Joomla//EN
CALSCALE:GREGORIAN
METHOD:PUBLISH
BEGIN:VEVENT

UID:0f25b36a92744dd6a1010bf361e4cd5c
CATEGORIES:Swirl
SUMMARY:Knudsen VIP Tasting Event
LOCATION:Swirl Wine Club.Shop.Bar
DESCRIPTION;ENCODING=QUOTED-PRINTABLE: \n           \n       \n           \n            Page Knudsen\n     \n    
   \n      \n Click HERE to get         Tickets Now!\n  \n  \n Featured Wine
 s:\n  \n Rosé         Reception\n *\n Chardonnay '16 & '17\n *\n Pinot Noir
  16' & '17\n *\n Estate Reserve Pinot Noir\n 2016 & 2017\n  \n *\n Argyle S
 parkling sourced from Knudsen Vineyards\n  \n  \n         \n      Willamett
 e Valley VIP Tasting Knudsen Vineyards\n with proprietor, Page Knudsen Cowl
 es\n  \n Monday December 9th \n 6:00 - 8:00pm at Swirl\n     \n       \n   
  It's Willamette, Dammit, and we are beyond excited to         welcome the 
 esteemed Page Knudsen Cowles here to Swirl.  Page will         lead us thro
 ugh an exploration and tasting of seven beautiful         wines. Three flig
 hts and some bubbles actually: Two Chardonnays of two         vintages; Two
  Pinot Noir's of two vintages; and two Reserve Pinot Noir         comparati
 ves of two vintages.  Plus, we will end the night with an         outstandi
 ng sparkling wine. These wines are spectacular! Get ready to         smile,
  sip, laugh, and learn about arguably America's #1 Pinot         Noir produ
 cing region of Willamette Valley, Oregon. \n  \n Rosé wine         receptio
 n at 6pm\n *\n Seated         tasting of 7 wines from 6:30 - 8:00pm, a disc
 ussion with Page, and of         course a great time!\n     \n       \n    
 Get Tickets HERE!!\n \n $30 per person\n     \n       \n            \n
CONTACT:
 
 
 
 
 This e-mail address is being protected from spambots. You need JavaScript enabled to view it
 
 
 

DTSTAMP:20260424T061642Z
DTSTART:20191210T000000Z
DTEND:20191210T020000Z
SEQUENCE:0
TRANSP:OPAQUE
END:VEVENT
END:VCALENDAR