BEGIN:VCALENDAR
VERSION:2.0
PRODID:-//jEvents 1.5 for Joomla//EN
CALSCALE:GREGORIAN
METHOD:PUBLISH
BEGIN:VEVENT

UID:29a899241f3a50c2e3cd03aa7476f3ca
CATEGORIES:Swirl
SUMMARY:Wine Bingo 6:30pm
LOCATION:Swirl Wine Club.Shop.Bar
DESCRIPTION;ENCODING=QUOTED-PRINTABLE: \n          \n                    Wine Bingo \n Thursday - November 21st\n
  \n * Free Wine Bingo with prizes: starting at 6:30pm at Swirl\n \n  \n    
           \n
CONTACT:
 
 
 
 
 This e-mail address is being protected from spambots. You need JavaScript enabled to view it
 
 
 

DTSTAMP:20260424T074217Z
DTSTART:20191122T003000Z
DTEND:20191122T020000Z
SEQUENCE:0
TRANSP:OPAQUE
END:VEVENT
END:VCALENDAR