BEGIN:VCALENDAR
VERSION:2.0
PRODID:-//jEvents 1.5 for Joomla//EN
CALSCALE:GREGORIAN
METHOD:PUBLISH
BEGIN:VEVENT

UID:1702fce0565c76c7bdfaaf15c285fdd4
CATEGORIES:Swirl
SUMMARY:Italian Wine Dinner
LOCATION:Historic Afton House Inn
DESCRIPTION;ENCODING=QUOTED-PRINTABLE: \nNorthern Italian Wine Dinner\n \n \n \nFriday November 22, 2019\n \n8-co
 urse dinner paired with 5 wines plus Ventian reception cocktail\n \nRecepti
 on starts @6:30 |  First Course @7pm\n \n \n \nAperitivo\n \nOlives, hazeln
 ut, Grana Padano with Spritz Veneziano\n \n \n \nAntipasti\n \nVenetian Bru
 schetta – sun dried tomato butter, Asiago, olive oil, basil \n \nWine Pairi
 ng: Renato Ratti “Battaglione” Barbera d’Asti - Piedmont, Italy\n \n \n \nP
 rimi\n \nPappardelle Bolognese - grape tomato, Grana Padano, fresh herbs\n 
 \nWine Pairing: Renato Ratti “Ochetti” Nebbiolo – Langhe, Piedmont, Italy\n
  \n \n \nSecondi\n \nStuffed Porchetta – sage, rosemary, dill-fingerling po
 tato, green bean, fennel-peppercorn sauce\n \nWine Pairing: Allegrini Valpo
 licella – Veneto, Italy\n \n \n \nInsalata\n \nApple, kale, pomegranate vin
 aigrette\n \nWine Pairing: Pieropan Soave Classico – Veneto, Italy\n \n \n 
 \nFormaggi E Frutta\n \nFontina, Gorgonzola, strawberry, pear \n \n \n \nDo
 lce\n \nZabaglione, berries, mint\n \nWine Pairing: La Marca Prosecco Lumin
 ore DOCG – Veneto, Italy\n \n \n \nCaffé Americano\n \n \n$70 per person + 
 20% staff service charge\n \nReservations Required by calling 651-436-8883\
 n\n \n
CONTACT:651-436-8883

DTSTAMP:20260424T075045Z
DTSTART:20191123T003000Z
DTEND:20191123T040000Z
SEQUENCE:0
TRANSP:OPAQUE
END:VEVENT
END:VCALENDAR