BEGIN:VCALENDAR
VERSION:2.0
PRODID:-//jEvents 1.5 for Joomla//EN
CALSCALE:GREGORIAN
METHOD:PUBLISH
BEGIN:VEVENT

UID:2d2f924d42ead7924d384aa56260d479
CATEGORIES:Swirl
SUMMARY:Wine Club Members Meet Up (6:00pm - 8:00pm)
LOCATION:Afton House Inn
DESCRIPTION;ENCODING=QUOTED-PRINTABLE:<p style="text-align: center;">Wine Club Members Meet-up</p><p style="text-
 align: center;">6 - 8pm</p><p style="text-align: center;">Featuring: Food F
 riendly Wines of Italy</p><p style="text-align: center;">With Italian Wine 
 Scholar, Nikki Erpelding</p>

DTSTAMP:20260424T085837Z
DTSTART:20191011T230000Z
DTEND:20191012T010000Z
SEQUENCE:0
TRANSP:OPAQUE
END:VEVENT
END:VCALENDAR