BEGIN:VCALENDAR
VERSION:2.0
PRODID:-//jEvents 1.5 for Joomla//EN
CALSCALE:GREGORIAN
METHOD:PUBLISH
BEGIN:VEVENT

UID:6c3dfac2dd67645a6cd6fa60cde8ebbb
CATEGORIES:Swirl
SUMMARY:VIP Tasting Event - Schramsberg
LOCATION:Swirl Wine Club.Shop.Bar
DESCRIPTION;ENCODING=QUOTED-PRINTABLE: \n           \n      \n            \n            Schramsberg Proprietor\n 
 Fred Zammataro\n     \n Click HERE to learn more about Schramsberg\n      \
 n      \n Click HERE to get Tickets Now!\n  \n Schramsberg Wines           
 for the evening:\n  \n Mirabelle Brut\n Sparkling Reception\n *\n Blanc de 
 Blancs\n *\n Blanc de Noirs\n *\n J Schram\n *\n Cremant Demi-Sec\n *\n Pin
 ot Noir\n Ferrington Vineyard\n *\n Cabernet Sauvignon\n J Davies\n        
      Swirl Welcomes \n Schramsberg         proprietor\n Fred         Zammat
 aro from Napa \n  \n VIP Tasting Event:\n \n Monday, October 21st \n 6:00 t
 o 8:00pm at Swirl\n     \n       \n    We are beyond excited to have Schram
 sberg proprietor,         Fred Zammataro joining us from Napa Valley and pe
 rhaps Americas top         sparkling house. Fred will share with us some gr
 eat stories and the         legacy of Schramsberg while he leads us through
  an exploration and         tasting of six absolutely incredible wines from
  his         famed winery.  Get ready to  smile, sip, laugh,         and le
 arn about one of Napa's most highly respected wineries -         producing 
 incredible, sought-after wines year in and year out.\n  \n Sparkling wine r
 eception at 6pm\n *\n Seated tasting of 6 wines from 6:30 -         8pm, a 
 discussion with Fred, and of course a great time!\n     \n       \n    Get 
 Tickets HERE!!\n \n $30 per person\n Limited to max of 30 people\n         
 \n           \n
CONTACT:
 
 
 
 
 This e-mail address is being protected from spambots. You need JavaScript enabled to view it
 
 
 

DTSTAMP:20260424T085207Z
DTSTART:20191021T230000Z
DTEND:20191022T010000Z
SEQUENCE:0
TRANSP:OPAQUE
END:VEVENT
END:VCALENDAR