BEGIN:VCALENDAR
VERSION:2.0
PRODID:-//jEvents 1.5 for Joomla//EN
CALSCALE:GREGORIAN
METHOD:PUBLISH
BEGIN:VEVENT

UID:a17caac36ba589be63f9e178df731f08
CATEGORIES:Swirl
SUMMARY:Ernie Els "Signature" 69% OFF Pre-Order
LOCATION:
DESCRIPTION;ENCODING=QUOTED-PRINTABLE: \n                \n    \n \n \n                \n  \n Ernie Els "Signatur
 e" \n 6-Pack Pre-Order at 69% OFF\n  \n Best Price In America too\n    \n \
 n \n               \n    \n \n \n               69% OFF\n Ernie Els "Signat
 ure"\n Bordeaux Style Red Blend\n  (Stellenbosch,     South Africa, 2012) \
 n    \n \n \n                Normal 6-Pack Price = $600\n  \n Your Price = 
 $179.82 per 6-Pack (6     Bottles)\n You Save over $420\n breaks down to ju
 st $29.97 per bottle! CRAZY!\n  \n  Min one 6-pack (6 bottles) | Max Order 
 = four 6-packs     (24 bottles)\n Only 30 six-packs available until sold ou
 t\n Pick up only / No Shipping\n This is a Pre-Order. Wine expected to arri
 ve 1-2 weeks (by     September 4th)\n    \n \n \n                          
      \n        \n \n \n                       \n      \n \n \n             
   \n    \n \n \n                       \n      \n \n \n                    
            \n        \n \n \n                           \n  \n  \n  \n  {DA
 VE'S NOTES - THE SKINNY ON THIS WINE}\n  \n Ernie Els is certainly a great 
 PGA Champion golfer and his     wines are nothing short of spectacular. Aft
 er trying this wine twice (3     days apart) I am excited for you! Wine Spe
 ctator & Robert Parker give     it 93 & 92 Points respectfully. It's a $100
  blend of the 5 red Bordeaux     Varietals (60% Cabernet Sauvignon, 25% Mer
 lot, 5% Petit Verdot, 5% Malbec,     5% Cabernet Franc). This is one of the
  best we've ever done. I'm     stoked! \n  \n  \n {TASTING NOTES}\n  \n "A 
 dark, alluring style, with gunpowder tea and warm     ganache notes undersc
 oring the core of steeped red and black currant fruit.     Features a singe
 d cedar and alder frame, accented by a tobacco hint. Should     open up nic
 ely in the cellar. Cabernet Sauvignon, Merlot, Petit Verdot,     Malbec and
  Cabernet Franc. Best from 2017 through 2022". - Wine     Spectator Magazin
 e. \n  \n Click HERE to learn more \n  \n  \n Buy Now Click HERE \n    \n \
 n \n               Cheers,\n  \n Dave Jarvis\n Swirl Wine Club . Shop . Bar
 \n www.swirlmywine.com\n 

DTSTAMP:20260424T115247Z
DTSTART:20190822T150000Z
DTEND:20190823T045900Z
SEQUENCE:0
TRANSP:OPAQUE
END:VEVENT
END:VCALENDAR