BEGIN:VCALENDAR
VERSION:2.0
PRODID:-//jEvents 1.5 for Joomla//EN
CALSCALE:GREGORIAN
METHOD:PUBLISH
BEGIN:VEVENT

UID:c0e2285288b4f8f4e0bb668bafad7a6c
CATEGORIES:Swirl
SUMMARY:BV Winemaker VIP Tasting Event
LOCATION:Swirl Wine Club.Shop.Bar
DESCRIPTION;ENCODING=QUOTED-PRINTABLE: \n        \n            BV Head     Winemaker\n Trevor     Durling\n     \
 n Click HERE to learn more about Trevor     Durling\n      \n      \n Click
  HERE to get Tickets Now!\n  \n BV Wine lineup for the     evening:\n  \n S
 parkling     Reception\n *\n Carneros     Chardonnay\n *\n Carneros     Pin
 ot Noir\n *\n Napa     Valley Cabernet\n *\n Rutherford     Cabernet\n *\n 
 Tapestry\n (Bordeaux     Style Blend)\n *\n Georges     de Latour\n (Iconic
      Cabernet)\n             Swirl     Welcomes \n Beaulieu     Vineyard wi
 nemaker\n Trevor Durling     from Napa Valley\n  \n VIP     Tasting Event:\
 n \n Monday, June 17th\n 6:00     to 8:00pm at Swirl\n     \n       \n    A
 t Beaulieu Vineyard, Trevor presides as only the fifth     chief winemaker 
 in the Iconic winery's 119-year history (since 1900).     We are beyond exc
 ited to welcome BV head winemaker Trevor Durling from Napa     Valley, Cali
 fornia. Trevor will share with us some great stories     and the legacy of 
 Beaulieu Vineyard while he leads us through an exploration and     tasting 
 of six absolutely incredible wines from his famed     winery.  Get ready to
   smile, sip, laugh, and learn about     one of Napa's (and the worlds) mos
 t highly respected wineries - producing     incredible, sought-after wines 
 year in and year out.\n  \n Sparkling Cremant de Limoux reception at 6pm\n 
 *\n Seated tasting of 6 wines from 6:30 - 8pm, a     discussion with Trevor
 , and of course a great time!\n     \n       \n    Get Tickets HERE!!\n \n 
 $30 per person\n Limited to max of 30 people\n       \n
CONTACT:
 
 
 
 
 This e-mail address is being protected from spambots. You need JavaScript enabled to view it
 
 
 

DTSTAMP:20260424T142356Z
DTSTART:20190617T230000Z
DTEND:20190618T010000Z
SEQUENCE:0
TRANSP:OPAQUE
END:VEVENT
END:VCALENDAR