BEGIN:VCALENDAR
VERSION:2.0
PRODID:-//jEvents 1.5 for Joomla//EN
CALSCALE:GREGORIAN
METHOD:PUBLISH
BEGIN:VEVENT

UID:4180d8bb9319e003cf87ad04b236cd45
CATEGORIES:Swirl
SUMMARY:Croatia VIP Tasting Event
LOCATION:Afton House Inn
DESCRIPTION;ENCODING=QUOTED-PRINTABLE: \n\n\n        \n         \n             Katharine     Anderson Groethe\n K
 orta     Katarina Winery\n  \n    \n            \n Click HERE to get Ticket
 s Now! \n  \n Korta Katarina wine     lineup for the evening:\n  \n Sabion 
     Sparkling Posip - Reception\n *\n Posip\n *\n Rosé of     Plavac Mali\n
  *\n Plavac     Mali Vertical\n 2007\n 2008\n 2009\n 2010\n *\n Reuben's   
   Reserve\n Plavac     Mali \n *\n *\n *\n Each     guest will also receive
  a special gift from Korta Katarina Winery\n          Swirl     Welcomes \n
   Croatian winery     owner \n Katharine     Anderson Groethe\n  \n VIP    
  Tasting Event:\n \n Monday, November 12th\n 6:00     to 8:00pm in Afton\n 
   \n        \n       We are excited to welcome Croatian winery owner, Kathe
 rine     Anderson Groethe of Korta Katarina Winery.  Katharine will     lea
 d us through an exploration and tasting of 8 highly     unique wines from C
 roatia as we smile, laugh, and learn about     this interesting and excitin
 g wine region.\n  \n Sparkling wine reception at 6pm\n *\n Seated tasting o
 f 7 wines from 6:30 - 8pm, a     discussion with Katharine, and of course a
  great time!\n   \n        \n       Get Tickets HERE!!\n \n $25 per person\
 n Limited to max of 60 people\n   \n        \n       We'll     also be raff
 ling some great prizes:\n 1 \n Magnum of Korta Katarina Reuben's Reserve Pl
 avac Mali     2009 (retail value $90)\n Vertical of Korta Katarina Plavac M
 ali 2007-2010\n (retail value $160)\n Korta Katarina Etched Decanter\n   \n
CONTACT:
 
 
 
 
 This e-mail address is being protected from spambots. You need JavaScript enabled to view it
 
 
 

DTSTAMP:20260424T234728Z
DTSTART:20181113T000000Z
DTEND:20181113T020000Z
SEQUENCE:0
TRANSP:OPAQUE
END:VEVENT
END:VCALENDAR