BEGIN:VCALENDAR
VERSION:2.0
PRODID:-//jEvents 1.5 for Joomla//EN
CALSCALE:GREGORIAN
METHOD:PUBLISH
BEGIN:VEVENT

UID:7bbcbd013959b6cc4f85a71a5d72aa3c
CATEGORIES:Swirl
SUMMARY:VIP Tasting Event - How to taste like a Somm
LOCATION:Swirl Wine Club.Shop.Bar
DESCRIPTION;ENCODING=QUOTED-PRINTABLE: \n        \n            April     Amys \n     \n      \n      \n Click HER
 E to get Tickets Now! \n  \n Wine lineup for the     evening:\n  \n Mystery
      1\n *\n Mystery     2\n *\n Mystery     3\n *\n Mystery     4\n *\n My
 stery     5\n *\n Mystery     6\n  \n             VIP     Tasting Event:\n 
  "How     to taste like a Somm"\n with     Twin Cities Sommeliers April Amy
 s & Dave Jarvis\n  \n VIP     Tasting Event:\n  \n Monday, October     22nd
  \n 6:00     to 8:00pm at Swirl\n     \n       \n    We are super excited f
 or this event... get ready to taste     like a pro!  Ever wanted to learn a
  systematic process for tasting     wine and how to best describe certain a
 romas and flavors?  Certified     Sommelier duo April Amys & Dave Jarvis ar
 e stoked to lead up     this special event where we'll learn sommeliers sec
 rets for deductive     tasting and how to identify key markers that describ
 e just exactly     what it is that we smell and taste in different classic 
 wines.  We'll     "blind" taste 6 classic wines, learn the best adjective -
      descriptors, have a few laughs and a jolly good time. \n  \n Sparkling
  reception at 6pm\n *\n Seated tasting of 6 wines from 6:30 - 8pm, a     di
 scussion with April & Dave, and of course a great time!\n     \n       \n  
   Get Tickets HERE!!\n \n $25 per person\n Limited to max of 30 people\n   
     \n
CONTACT:
 
 
 
 
 This e-mail address is being protected from spambots. You need JavaScript enabled to view it
 
 
 

DTSTAMP:20260425T012022Z
DTSTART:20181022T230000Z
DTEND:20181023T010000Z
SEQUENCE:0
TRANSP:OPAQUE
END:VEVENT
END:VCALENDAR