BEGIN:VCALENDAR
VERSION:2.0
PRODID:-//jEvents 1.5 for Joomla//EN
CALSCALE:GREGORIAN
METHOD:PUBLISH
BEGIN:VEVENT

UID:882e1316dae533d9f945f16f3840bf89
CATEGORIES:Swirl
SUMMARY:Open 3pm today
LOCATION:
DESCRIPTION;ENCODING=QUOTED-PRINTABLE:<p style="text-align: center;">Swirl will open at 3pm today due to this unu
 sual April snow storm</p>

DTSTAMP:20260425T053609Z
DTSTART:20180414
DTEND:20180414
SEQUENCE:0
TRANSP:OPAQUE
END:VEVENT
END:VCALENDAR