BEGIN:VCALENDAR
VERSION:2.0
PRODID:-//jEvents 1.5 for Joomla//EN
CALSCALE:GREGORIAN
METHOD:PUBLISH
BEGIN:VEVENT

UID:e24602a01b83902b21ac1ab7dc7fd972
CATEGORIES:Swirl
SUMMARY:VIP Tasting Event - Hoepler Winery of Austria
LOCATION:Swirl Wine Club.Shop.Bar
DESCRIPTION;ENCODING=QUOTED-PRINTABLE: \n        \n            Winemaker \n Christof Höpler \n     \n Click HERE 
 to     learn more about Höpler \n      \n      \n Click HERE to get Tickets
  Now! \n  \n Wine lineup for the     evening:\n  \n Rosé -     Reception\n 
 *\n Grüner     Veltliner\n *\n Pinot     Blanc\n *\n Pannonica     Red\n *\
 n Pinot     Noir\n *\n Blaufränkisch\n *\n Zweigelt\n  \n             Swirl
      welcomes \n  Owner     & Winemaker \n Christof     Höpler from Höpler 
 Winery of Austria \n VIP Tasting Event:\n \n Monday, April 23rd\n 6:00     
 to 8:00pm at Swirl\n     \n       \n    We are excited to welcome \n owner/
 winemaker     Christof Höpler who has traveled all the way from Austria! Ch
 ristof is     a an all-star winemaker that will lead us through an explorat
 ion     of Austria as we taste through seven Höpler wines     and learn abo
 ut this world renowned wine region.  \n Rosé reception at 6pm\n *\n Seated 
 tasting of 6 wines from 6:30 - 8pm, a discussion     with Christof, and of 
 course a great time!\n     \n       \n    Get Tickets HERE!!\n \n $20 per p
 erson\n Limited to max of 28 people\n       \n
CONTACT:
 
 
 
 
 This e-mail address is being protected from spambots. You need JavaScript enabled to view it
 
 
 

DTSTAMP:20260425T103031Z
DTSTART:20180423T230000Z
DTEND:20180424T013000Z
SEQUENCE:0
TRANSP:OPAQUE
END:VEVENT
END:VCALENDAR