BEGIN:VCALENDAR
VERSION:2.0
PRODID:-//jEvents 1.5 for Joomla//EN
CALSCALE:GREGORIAN
METHOD:PUBLISH
BEGIN:VEVENT

UID:f8d83ceb6c9f5d1c8a506f4f00002264
CATEGORIES:Swirl
SUMMARY:Best of the Best Wine Dinner
LOCATION:Afton House Inn
DESCRIPTION;ENCODING=QUOTED-PRINTABLE:<p style="text-align: center;"><span style="color: #000000; font-family: Ti
 mes New Roman; font-size: small;"> </span></p><p style="margin: 0in 0in 0pt
 ; text-align: center;" align="center"><span style="color: #c00000; line-hei
 ght: 107%; font-family: " Sans="Sans" Unicode",sans-serif;="Unicode",sans-s
 erif;" font-size:="font-size:" 28pt;="28pt;" mso-no-proof:="mso-no-proof:" 
 yes;"="yes;"">Best of the Best </span></p><p style="margin: 0in 0in 0pt; te
 xt-align: center;" align="center"><span style="color: #c00000; line-height:
  107%; font-family: " Sans="Sans" Unicode",sans-serif;="Unicode",sans-serif
 ;" font-size:="font-size:" 28pt;="28pt;" mso-no-proof:="mso-no-proof:" yes;
 "="yes;"">Wine Dinner</span></p><p style="text-align: center;"><span style=
 "color: #000000; font-family: Times New Roman; font-size: small;"> </span><
 /p><p style="margin: 0in 0in 0pt; text-align: center;" align="center"><span
  style="color: #c00000; line-height: 107%; font-family: " Sans="Sans" Unico
 de",sans-serif;="Unicode",sans-serif;" font-size:="font-size:" 14pt;="14pt;
 " mso-no-proof:="mso-no-proof:" yes;"="yes;"">Featuring global cuisine and 
 California wines</span></p><p style="text-align: center;"><span style="colo
 r: #000000; font-family: Times New Roman; font-size: small;"> </span></p><p
  style="margin: 0in 0in 0pt; text-align: center;" align="center"><span styl
 e="color: #c00000; line-height: 107%; font-family: " Sans="Sans" Unicode",s
 ans-serif;="Unicode",sans-serif;" font-size:="font-size:" 8pt;="8pt;" mso-n
 o-proof:="mso-no-proof:" yes;"="yes;""> </span></p><p style="text-align: ce
 nter;"><span style="color: #000000; font-family: Times New Roman; font-size
 : small;"> </span></p><p style="margin: 0in 0in 0pt; text-align: center;" a
 lign="center"><span style="color: #c00000; line-height: 107%; font-family: 
 " Sans="Sans" Unicode",sans-serif;="Unicode",sans-serif;" font-size:="font-
 size:" 24pt;="24pt;" mso-no-proof:="mso-no-proof:" yes;"="yes;"">Friday Apr
 il<span style="mso-spacerun: yes;"> </span>27<sup>th</sup>, 2018</span></p>
 <p style="text-align: center;"><span style="color: #000000; font-family: Ti
 mes New Roman; font-size: small;"> </span></p><p style="margin: 0in 0in 0pt
 ; text-align: center;" align="center"><span style="line-height: 107%; font-
 family: " Sans="Sans" Unicode",sans-serif;="Unicode",sans-serif;" font-size
 :="font-size:" 12pt;="12pt;" mso-no-proof:="mso-no-proof:" yes;"="yes;""><s
 pan style="color: #000000;">5-course dinner plus hors d’oeuvres paired with
  5 wines</span></span></p><p style="text-align: center;"><span style="color
 : #000000; font-family: Times New Roman; font-size: small;"> </span></p><p 
 style="margin: 0in 0in 0pt; text-align: center;" align="center"><span style
 ="line-height: 107%; font-family: " Sans="Sans" Unicode",sans-serif;="Unico
 de",sans-serif;" font-size:="font-size:" 12pt;="12pt;" mso-no-proof:="mso-n
 o-proof:" yes;"="yes;""><span style="color: #000000;">Reception starts @6:3
 0 <span style="mso-spacerun: yes;"> </span></span><span style="color: #0000
 00;">| </span><span style="mso-spacerun: yes;"><span style="color: #000000;
 "> </span></span><span style="color: #000000;">First Course @7pm </span></s
 pan></p><p style="margin: 0in 0in 0pt; text-align: center;" align="center">
 <span style="line-height: 107%; font-family: " Sans="Sans" Unicode",sans-se
 rif;="Unicode",sans-serif;" font-size:="font-size:" 12pt;="12pt;" mso-no-pr
 oof:="mso-no-proof:" yes;"="yes;""><span style="color: #000000;">at the His
 toric Afton House Inn</span></span></p><p style="text-align: center;"><span
  style="color: #000000; font-family: Times New Roman; font-size: small;"> <
 /span></p><p style="margin: 0in 0in 0pt; text-align: center;" align="center
 "><strong style="mso-bidi-font-weight: normal;"><span style="text-decoratio
 n: underline;"><span style="color: #538135; line-height: 107%; font-family:
  " Corsiva";="Corsiva";" font-size:="font-size:" 12pt;="12pt;" mso-no-proof
 :="mso-no-proof:" yes;="yes;" mso-themecolor:="mso-themecolor:" accent6;="a
 ccent6;" mso-themeshade:="mso-themeshade:" 191;"="191;""><span style="text-
 decoration: none;"> </span></span></span></strong></p><p style="text-align:
  center;"><span style="color: #000000; font-family: Times New Roman; font-s
 ize: small;"> </span></p><p style="margin: 0in 0in 0pt; text-align: center;
 " align="center"><strong style="mso-bidi-font-weight: normal;"><span style=
 "font-family: " Sans="Sans" Unicode",sans-serif;="Unicode",sans-serif;" fon
 t-size:="font-size:" 14pt;"="14pt;""><span style="color: #000000;">Hors d’o
 euvre Reception</span></span></strong></p><p style="text-align: center;"><s
 pan style="color: #000000; font-family: Times New Roman; font-size: small;"
 > </span></p><p style="margin: 0in 0in 0pt; text-align: center;" align="cen
 ter"><span style="font-family: " Sans="Sans" Unicode",sans-serif;"="Unicode
 ",sans-serif;""><span style="color: #000000; font-size: small;">butler pass
 ed hors d’oeuvres and sparkling wine</span></span></p><p style="text-align:
  center;"><span style="color: #000000; font-family: Times New Roman; font-s
 ize: small;"> </span></p><p style="margin: 0in 0in 0pt; text-align: center;
 " align="center"><strong style="mso-bidi-font-weight: normal;"><span style=
 "text-decoration: underline;"><span style="color: #538135; font-family: " S
 ans="Sans" Unicode",sans-serif;="Unicode",sans-serif;" mso-no-proof:="mso-n
 o-proof:" yes;="yes;" mso-themecolor:="mso-themecolor:" accent6;="accent6;"
  mso-themeshade:="mso-themeshade:" 191;"="191;""><span style="text-decorati
 on: none;"><span style="font-size: small;"> </span></span></span></span></s
 trong></p><p style="text-align: center;"><span style="color: #000000; font-
 family: Times New Roman; font-size: small;"> </span></p><p style="margin: 0
 in 0in 0pt; text-align: center;" align="center"><strong style="mso-bidi-fon
 t-weight: normal;"><span style="font-family: " Sans="Sans" Unicode",sans-se
 rif;="Unicode",sans-serif;" font-size:="font-size:" 14pt;"="14pt;""><span s
 tyle="color: #000000;">New Zealand quinoa salad</span></span></strong></p><
 p style="text-align: center;"><span style="color: #000000; font-family: Tim
 es New Roman; font-size: small;"> </span></p><p style="margin: 0in 0in 0pt;
  text-align: center;" align="center"><span style="font-family: " Sans="Sans
 " Unicode",sans-serif;"="Unicode",sans-serif;""><span style="color: #000000
 ; font-size: small;">red quinoa, spinach, kiwi, watermelon radish, pickled 
 pearl onions, lemon berry vinaigrette</span></span></p><p style="text-align
 : center;"><span style="color: #000000; font-family: Times New Roman; font-
 size: small;"> </span></p><p style="margin: 0in 0in 0pt; text-align: center
 ;" align="center"><span style="font-size: small;"><span style="color: #0000
 00;"><em style="mso-bidi-font-style: normal;"><span style="font-family: " S
 ans="Sans" Unicode",sans-serif;"="Unicode",sans-serif;"">Meiomi </span></em
 ></span><em style="mso-bidi-font-style: normal;"><span lang="EN" style="col
 or: black; font-family: " Sans="Sans" Unicode",sans-serif;="Unicode",sans-s
 erif;" mso-themecolor:="mso-themecolor:" text1;="text1;" mso-ansi-language:
 ="mso-ansi-language:" EN;"="EN;"">Pinot Noir Rosé – Monterey, Sonoma, & San
 ta Barbara, California</span></em></span></p><p style="text-align: center;"
 ><span style="color: #000000; font-family: Times New Roman; font-size: smal
 l;"> </span></p><p style="margin: 0in 0in 0pt; text-align: center;" align="
 center"><span style="font-family: " Sans="Sans" Unicode",sans-serif;="Unico
 de",sans-serif;" mso-no-proof:="mso-no-proof:" yes;"="yes;""><span style="c
 olor: #000000; font-size: small;"> </span></span></p><p style="text-align: 
 center;"><span style="color: #000000; font-family: Times New Roman; font-si
 ze: small;"> </span></p><p style="margin: 0in 0in 0pt; text-align: center;"
  align="center"><strong style="mso-bidi-font-weight: normal;"><span style="
 font-family: " Sans="Sans" Unicode",sans-serif;="Unicode",sans-serif;" font
 -size:="font-size:" 14pt;"="14pt;""><span style="color: #000000;">Moroccan 
 spiced lamb lollipops</span></span></strong></p><p style="text-align: cente
 r;"><span style="color: #000000; font-family: Times New Roman; font-size: s
 mall;"> </span></p><p style="margin: 0in 0in 0pt; text-align: center;" alig
 n="center"><span style="font-family: " Sans="Sans" Unicode",sans-serif;"="U
 nicode",sans-serif;""><span style="color: #000000; font-size: small;">mango
  chutney, spiced yogurt sauce</span></span></p><p style="text-align: center
 ;"><span style="color: #000000; font-family: Times New Roman; font-size: sm
 all;"> </span></p><p style="margin: 0in 0in 0pt; text-align: center;" align
 ="center"><span style="font-size: small;"><span style="color: #000000;"><em
  style="mso-bidi-font-style: normal;"><span style="font-family: " Sans="San
 s" Unicode",sans-serif;"="Unicode",sans-serif;"">J Vineyards </span></em></
 span><em style="mso-bidi-font-style: normal;"><span lang="EN" style="color:
  black; font-family: " Sans="Sans" Unicode",sans-serif;="Unicode",sans-seri
 f;" mso-themecolor:="mso-themecolor:" text1;="text1;" mso-ansi-language:="m
 so-ansi-language:" EN;"="EN;"">Pinot Noir – Monterey, Sonoma, & Santa Barba
 ra, California</span></em></span></p><p style="text-align: center;"><span s
 tyle="color: #000000; font-family: Times New Roman; font-size: small;"> </s
 pan></p><p style="margin: 0in 0in 0pt; text-align: center;" align="center">
 <span style="color: #c00000; font-family: " Sans="Sans" Unicode",sans-serif
 ;="Unicode",sans-serif;" mso-no-proof:="mso-no-proof:" yes;"="yes;""><span 
 style="font-size: small;"> </span></span></p><p style="text-align: center;"
 ><span style="color: #000000; font-family: Times New Roman; font-size: smal
 l;"> </span></p><p style="margin: 0in 0in 0pt; text-align: center;" align="
 center"><strong style="mso-bidi-font-weight: normal;"><span style="font-fam
 ily: " Sans="Sans" Unicode",sans-serif;="Unicode",sans-serif;" font-size:="
 font-size:" 14pt;"="14pt;""><span style="color: #000000;">Frozen palate cle
 anser</span></span></strong></p><p style="text-align: center;"><span style=
 "color: #000000; font-family: Times New Roman; font-size: small;"> </span><
 /p><p style="margin: 0in 0in 0pt; text-align: center;" align="center"><span
  style="font-family: " Sans="Sans" Unicode",sans-serif;"="Unicode",sans-ser
 if;""><span style="color: #000000; font-size: small;">cucumber, peppercorn,
  agave, gin, pecans</span></span></p><p style="text-align: center;"><span s
 tyle="color: #000000; font-family: Times New Roman; font-size: small;"> </s
 pan></p><p style="margin: 0in 0in 0pt; text-align: center;" align="center">
 <span style="font-family: " Sans="Sans" Unicode",sans-serif;"="Unicode",san
 s-serif;""><span style="color: #000000; font-size: small;"> </span></span><
 /p><p style="text-align: center;"><span style="color: #000000; font-family:
  Times New Roman; font-size: small;"> </span></p><p style="margin: 0in 0in 
 0pt; text-align: center;" align="center"><strong style="mso-bidi-font-weigh
 t: normal;"><span style="font-family: " Sans="Sans" Unicode",sans-serif;="U
 nicode",sans-serif;" font-size:="font-size:" 14pt;"="14pt;""><span style="c
 olor: #000000;">Las Vegas strip steak</span></span></strong></p><p style="t
 ext-align: center;"><span style="color: #000000; font-family: Times New Rom
 an; font-size: small;"> </span></p><p style="margin: 0in 0in 0pt; text-alig
 n: center;" align="center"><span style="font-family: " Sans="Sans" Unicode"
 ,sans-serif;"="Unicode",sans-serif;""><span style="color: #000000; font-siz
 e: small;">cracked pink peppercorn, rosemary, garlic parmesan fries, white 
 truffle butter, ratatouille</span></span></p><p style="text-align: center;"
 ><span style="color: #000000; font-family: Times New Roman; font-size: smal
 l;"> </span></p><p style="margin: 0in 0in 0pt; text-align: center;" align="
 center"><span style="font-size: small;"><span style="color: #000000;"><em s
 tyle="mso-bidi-font-style: normal;"><span style="font-family: " Sans="Sans"
  Unicode",sans-serif;"="Unicode",sans-serif;"">Wild Horse Cabernet Sauvigno
 n</span></em></span><em style="mso-bidi-font-style: normal;"><span style="c
 olor: black; font-family: " Sans="Sans" Unicode",sans-serif;="Unicode",sans
 -serif;" mso-themecolor:="mso-themecolor:" text1;="text1;" mso-ansi-languag
 e:="mso-ansi-language:" EN;"="EN;""> <span lang="EN">– Central Coast, Calif
 ornia</span></span></em></span></p><p style="text-align: center;"><span sty
 le="color: #000000; font-family: Times New Roman; font-size: small;"> </spa
 n></p><p style="margin: 0in 0in 0pt; text-align: center;" align="center"><s
 pan style="font-family: " Sans="Sans" Unicode",sans-serif;"="Unicode",sans-
 serif;""><span style="color: #000000; font-size: small;"> </span></span></p
 ><p style="text-align: center;"><span style="color: #000000; font-family: T
 imes New Roman; font-size: small;"> </span></p><p style="margin: 0in 0in 0p
 t; text-align: center;" align="center"><strong style="mso-bidi-font-weight:
  normal;"><span style="font-family: " Sans="Sans" Unicode",sans-serif;="Uni
 code",sans-serif;" font-size:="font-size:" 14pt;"="14pt;""><span style="col
 or: #000000;">Hot Cocoa Crème </span><span style="color: #222222;">Brûlée</
 span></span></strong></p><p style="text-align: center;"><span style="color:
  #000000; font-family: Times New Roman; font-size: small;"> </span></p><p s
 tyle="margin: 0in 0in 0pt; text-align: center;" align="center"><span style=
 "font-family: " Sans="Sans" Unicode",sans-serif;"="Unicode",sans-serif;""><
 span style="color: #000000; font-size: small;">graham cracker crust, toaste
 d marshmallows, cocoa nib dust, mocha espresso chantilly cream</span></span
 ></p><p style="text-align: center;"><span style="color: #000000; font-famil
 y: Times New Roman; font-size: small;"> </span></p><p style="margin: 0in 0i
 n 0pt; text-align: center;" align="center"><span style="font-size: small;">
 <span style="color: #000000;"><em style="mso-bidi-font-style: normal;"><spa
 n style="font-family: " Sans="Sans" Unicode",sans-serif;"="Unicode",sans-se
 rif;"">Frei Brothers Zinfandel</span></em></span><em style="mso-bidi-font-s
 tyle: normal;"><span style="color: black; font-family: " Sans="Sans" Unicod
 e",sans-serif;="Unicode",sans-serif;" mso-themecolor:="mso-themecolor:" tex
 t1;="text1;" mso-ansi-language:="mso-ansi-language:" EN;"="EN;""> <span lan
 g="EN">– Dry Creek Valley, Sonoma County, California</span></span></em></sp
 an></p><p style="text-align: center;"><span style="color: #000000; font-fam
 ily: Times New Roman; font-size: small;"> </span></p><p style="margin: 0in 
 0in 0pt; text-align: center;" align="center"><span style="font-family: " Sa
 ns="Sans" Unicode",sans-serif;"="Unicode",sans-serif;""><span style="color:
  #000000; font-size: small;"> </span></span></p><p style="text-align: cente
 r;"><span style="color: #000000; font-family: Times New Roman; font-size: s
 mall;"> </span></p><p style="margin: 0in 0in 0pt;"><span style="color: #00b
 0f0; line-height: 107%; font-family: " Corsiva";="Corsiva";" font-size:="fo
 nt-size:" 20pt;="20pt;" mso-no-proof:="mso-no-proof:" yes;"="yes;""> </span
 ></p><p style="text-align: center;"><span style="color: #000000; font-famil
 y: Times New Roman; font-size: small;"> </span></p><p style="margin: 0in 0i
 n 0pt; text-align: center;" align="center"><strong style="mso-bidi-font-wei
 ght: normal;"><em style="mso-bidi-font-style: normal;"><span style="line-he
 ight: 107%; font-family: " Corsiva";="Corsiva";" font-size:="font-size:" 18
 pt;="18pt;" mso-no-proof:="mso-no-proof:" yes;"="yes;""><span style="color:
  #000000;">$59.95 per person + tax and 20% staff service charge</span></spa
 n></em></strong></p><p style="text-align: center;"><span style="color: #000
 000; font-family: Times New Roman; font-size: small;"> </span></p><p style=
 "margin: 0in 0in 0pt; text-align: center;" align="center"><strong style="ms
 o-bidi-font-weight: normal;"><em style="mso-bidi-font-style: normal;"><span
  style="line-height: 107%; font-family: " Corsiva";="Corsiva";" font-size:=
 "font-size:" 18pt;="18pt;" mso-no-proof:="mso-no-proof:" yes;"="yes;""><spa
 n style="color: #000000;">Reservations Required</span></span></em></strong>
 </p><p style="text-align: center;"><span style="color: #000000; font-family
 : Times New Roman; font-size: small;"> </span></p><p style="margin: 0in 0in
  0pt; text-align: center;" align="center"><strong style="mso-bidi-font-weig
 ht: normal;"><em style="mso-bidi-font-style: normal;"><span style="line-hei
 ght: 107%; font-family: " Corsiva";="Corsiva";" font-size:="font-size:" 18p
 t;="18pt;" mso-no-proof:="mso-no-proof:" yes;"="yes;""><span style="color: 
 #000000;">651-436-8883</span></span></em></strong></p><p style="text-align:
  center;"><span style="color: #000000; font-family: Times New Roman; font-s
 ize: small;"> </span></p>
CONTACT:651-436-8883

DTSTAMP:20260425T103553Z
DTSTART:20180427T233000Z
DTEND:20180428T023000Z
SEQUENCE:0
TRANSP:OPAQUE
END:VEVENT
END:VCALENDAR