BEGIN:VCALENDAR
VERSION:2.0
PRODID:-//jEvents 1.5 for Joomla//EN
CALSCALE:GREGORIAN
METHOD:PUBLISH
BEGIN:VEVENT

UID:c9ed2d11972d06340c4b13b3e0f7e753
CATEGORIES:Swirl
SUMMARY:5-Course Wine Dinner
LOCATION:Afton House Inn
DESCRIPTION;ENCODING=QUOTED-PRINTABLE:<p style="text-align: center;"><span style="color: #000000; font-family: Ti
 mes New Roman; font-size: small;"> </span></p><p style="margin: 0in 0in 0pt
 ; text-align: center;" align="center"><strong style="mso-bidi-font-weight: 
 normal;"><span style="color: black; font-size: 28pt; mso-themecolor: text1;
 "><span style="font-family: Times New Roman;">South America Inspired </span
 ></span></strong></p><p style="text-align: center;"><span style="color: #00
 0000; font-family: Times New Roman; font-size: small;"> </span></p><p style
 ="margin: 0in 0in 0pt; text-align: center;" align="center"><strong style="m
 so-bidi-font-weight: normal;"><span style="color: black; font-size: 28pt; m
 so-themecolor: text1;"><span style="font-family: Times New Roman;">Wine Din
 ner</span></span></strong></p><p style="text-align: center;"><span style="c
 olor: #000000; font-family: Times New Roman; font-size: small;"> </span></p
 ><p style="margin: 0in 0in 0pt; text-align: center;" align="center"><span s
 tyle="color: black; mso-themecolor: text1;"><span style="font-family: Times
  New Roman; font-size: small;"> </span></span></p><p style="text-align: cen
 ter;"><span style="color: #000000; font-family: Times New Roman; font-size:
  small;"> </span></p><p style="margin: 0in 0in 0pt; text-align: center;" al
 ign="center"><strong style="mso-bidi-font-weight: normal;"><span style="col
 or: black; font-family: " font-size:="font-size:" 18pt;="18pt;" mso-themeco
 lor:="mso-themecolor:" text1;="text1;" mso-fareast-font-family:="mso-fareas
 t-font-family:" "Times=""Times" New="New" Roman";"="Roman";"">Friday March 
 9, 2018 at the Historic Afton House Inn</span></strong></p><p style="text-a
 lign: center;"><span style="color: #000000; font-family: Times New Roman; f
 ont-size: small;"> </span></p><p style="margin: 0in 0in 0pt; text-align: ce
 nter;" align="center"><span style="color: black; font-family: " mso-themeco
 lor:="mso-themecolor:" text1;="text1;" mso-fareast-font-family:="mso-fareas
 t-font-family:" "Times=""Times" New="New" Roman";"="Roman";""><span style="
 font-size: small;">5-course dinner plus hors d’oeuvres paired with 6 wines<
 /span></span></p><p style="text-align: center;"><span style="color: #000000
 ; font-family: Times New Roman; font-size: small;"> </span></p><p style="ma
 rgin: 0in 0in 0pt; text-align: center;" align="center"><span style="color: 
 black; font-family: " font-size:="font-size:" 13.5pt;="13.5pt;" mso-themeco
 lor:="mso-themecolor:" text1;="text1;" mso-fareast-font-family:="mso-fareas
 t-font-family:" "Times=""Times" New="New" Roman";"="Roman";"">6:30pm Recept
 ion<span style="mso-spacerun: yes;"> </span>|<span style="mso-spacerun: yes
 ;"> </span>7:00pm – 1<sup>st</sup> Course </span></p><p style="text-align: 
 center;"><span style="color: #000000; font-family: Times New Roman; font-si
 ze: small;"> </span></p><p style="margin: 0in 0in 0pt; text-align: center;"
  align="center"><span style="color: black; font-family: " font-size:="font-
 size:" 13.5pt;="13.5pt;" mso-themecolor:="mso-themecolor:" text1;="text1;" 
 mso-fareast-font-family:="mso-fareast-font-family:" "Times=""Times" New="Ne
 w" Roman";"="Roman";""> </span></p><p style="text-align: center;"><span sty
 le="color: #000000; font-family: Times New Roman; font-size: small;"> </spa
 n></p><p style="margin: 0in 0in 0pt; text-align: center;" align="center"><s
 trong style="mso-bidi-font-weight: normal;"><span style="color: black; font
 -family: " font-size:="font-size:" 20pt;="20pt;" mso-themecolor:="mso-theme
 color:" text1;="text1;" mso-fareast-font-family:="mso-fareast-font-family:"
  "Times=""Times" New="New" Roman";"="Roman";""> ~ MENU~</span></strong></p>
 <p style="text-align: center;"><span style="color: #000000; font-family: Ti
 mes New Roman; font-size: small;"> </span></p><p style="margin: 0in 0in 0pt
 ; text-align: center;" align="center"><span style="color: black; font-famil
 y: " font-size:="font-size:" 13.5pt;="13.5pt;" mso-themecolor:="mso-themeco
 lor:" text1;="text1;" mso-fareast-font-family:="mso-fareast-font-family:" "
 Times=""Times" New="New" Roman";"="Roman";""> </span></p><p style="text-ali
 gn: center;"><span style="color: #000000; font-family: Times New Roman; fon
 t-size: small;"> </span></p><p style="margin: 0in 0in 0pt; text-align: cent
 er;" align="center"><strong style="mso-bidi-font-weight: normal;"><span sty
 le="color: black; font-family: " font-size:="font-size:" 13.5pt;="13.5pt;" 
 mso-themecolor:="mso-themecolor:" text1;="text1;" mso-fareast-font-family:=
 "mso-fareast-font-family:" "Times=""Times" New="New" Roman";"="Roman";"">RE
 CEPTION</span></strong></p><p style="text-align: center;"><span style="colo
 r: #000000; font-family: Times New Roman; font-size: small;"> </span></p><p
  style="margin: 0in 0in 0pt; text-align: center;" align="center"><span styl
 e="color: black; font-family: " font-size:="font-size:" 13.5pt;="13.5pt;" m
 so-themecolor:="mso-themecolor:" text1;="text1;" mso-fareast-font-family:="
 mso-fareast-font-family:" "Times=""Times" New="New" Roman";"="Roman";"">But
 ler passed hors d’oeuvres & sparkling wine</span></p><p style="text-align: 
 center;"><span style="color: #000000; font-family: Times New Roman; font-si
 ze: small;"> </span></p><p style="margin: 0in 0in 0pt; text-align: center;"
  align="center"><span style="color: black; font-family: " font-size:="font-
 size:" 13.5pt;="13.5pt;" mso-themecolor:="mso-themecolor:" text1;="text1;" 
 mso-fareast-font-family:="mso-fareast-font-family:" "Times=""Times" New="Ne
 w" Roman";"="Roman";""> </span></p><p style="text-align: center;"><span sty
 le="color: #000000; font-family: Times New Roman; font-size: small;"> </spa
 n></p><p style="margin: 0in 0in 0pt; text-align: center;" align="center"><s
 trong style="mso-bidi-font-weight: normal;"><span style="color: black; font
 -family: " font-size:="font-size:" 13.5pt;="13.5pt;" mso-themecolor:="mso-t
 hemecolor:" text1;="text1;" mso-fareast-font-family:="mso-fareast-font-fami
 ly:" "Times=""Times" New="New" Roman";"="Roman";"">STARTER</span></strong><
 /p><p style="text-align: center;"><span style="color: #000000; font-family:
  Times New Roman; font-size: small;"> </span></p><p style="margin: 0in 0in 
 0pt; text-align: center;" align="center"><span style="color: black; font-fa
 mily: " font-size:="font-size:" 13.5pt;="13.5pt;" mso-themecolor:="mso-them
 ecolor:" text1;="text1;" mso-fareast-font-family:="mso-fareast-font-family:
 " "Times=""Times" New="New" Roman";"="Roman";"">BRAZILIAN HEARTS OF PALM SA
 LAD</span></p><p style="text-align: center;"><span style="color: #000000; f
 ont-family: Times New Roman; font-size: small;"> </span></p><p style="margi
 n: 0in 0in 0pt; text-align: center;" align="center"><span style="color: bla
 ck; font-family: " font-size:="font-size:" 13.5pt;="13.5pt;" mso-themecolor
 :="mso-themecolor:" text1;="text1;" mso-fareast-font-family:="mso-fareast-f
 ont-family:" "Times=""Times" New="New" Roman";"="Roman";"">Heirloom tomatoe
 s, smoked corn puree, pickled fennel, </span></p><p style="text-align: cent
 er;"><span style="color: #000000; font-family: Times New Roman; font-size: 
 small;"> </span></p><p style="margin: 0in 0in 0pt; text-align: center;" ali
 gn="center"><span style="color: black; font-family: " font-size:="font-size
 :" 13.5pt;="13.5pt;" mso-themecolor:="mso-themecolor:" text1;="text1;" mso-
 fareast-font-family:="mso-fareast-font-family:" "Times=""Times" New="New" R
 oman";"="Roman";"">grilled shrimp and potato skewer</span></p><p style="tex
 t-align: center;"><span style="color: #000000; font-family: Times New Roman
 ; font-size: small;"> </span></p><p style="margin: 0in 0in 0pt; text-align:
  center;" align="center"><em style="mso-bidi-font-style: normal;"><span sty
 le="color: black; font-family: " mso-themecolor:="mso-themecolor:" text1;="
 text1;" mso-fareast-font-family:="mso-fareast-font-family:" "Times=""Times"
  New="New" Roman";"="Roman";""><span style="font-size: small;">Wine pairing
 : Gryphus Sauvignon Blanc – Maule Valley, Chile</span></span></em></p><p st
 yle="text-align: center;"><span style="color: #000000; font-family: Times N
 ew Roman; font-size: small;"> </span></p><p style="margin: 0in 0in 0pt; tex
 t-align: center;" align="center"><span style="color: black; font-family: " 
 font-size:="font-size:" 13.5pt;="13.5pt;" mso-themecolor:="mso-themecolor:"
  text1;="text1;" mso-fareast-font-family:="mso-fareast-font-family:" "Times
 =""Times" New="New" Roman";"="Roman";""> </span></p><p style="text-align: c
 enter;"><span style="color: #000000; font-family: Times New Roman; font-siz
 e: small;"> </span></p><p style="margin: 0in 0in 0pt; text-align: center;" 
 align="center"><strong style="mso-bidi-font-weight: normal;"><span style="c
 olor: black; font-family: " font-size:="font-size:" 13.5pt;="13.5pt;" mso-t
 hemecolor:="mso-themecolor:" text1;="text1;" mso-fareast-font-family:="mso-
 fareast-font-family:" "Times=""Times" New="New" Roman";"="Roman";"">SECOND<
 /span></strong></p><p style="text-align: center;"><span style="color: #0000
 00; font-family: Times New Roman; font-size: small;"> </span></p><p style="
 margin: 0in 0in 0pt; text-align: center;" align="center"><span style="color
 : black; font-family: " font-size:="font-size:" 13.5pt;="13.5pt;" mso-theme
 color:="mso-themecolor:" text1;="text1;" mso-fareast-font-family:="mso-fare
 ast-font-family:" "Times=""Times" New="New" Roman";"="Roman";"">DUCK CONFIT
  EMPANDAS</span></p><p style="text-align: center;"><span style="color: #000
 000; font-family: Times New Roman; font-size: small;"> </span></p><p style=
 "margin: 0in 0in 0pt; text-align: center;" align="center"><span style="colo
 r: black; font-family: " font-size:="font-size:" 13.5pt;="13.5pt;" mso-them
 ecolor:="mso-themecolor:" text1;="text1;" mso-fareast-font-family:="mso-far
 east-font-family:" "Times=""Times" New="New" Roman";"="Roman";"">Azafran ri
 sotto, spring peas, chorizo</span></p><p style="text-align: center;"><span 
 style="color: #000000; font-family: Times New Roman; font-size: small;"> </
 span></p><p style="margin: 0in 0in 0pt; text-align: center;" align="center"
 ><em style="mso-bidi-font-style: normal;"><span style="color: black; font-f
 amily: " mso-themecolor:="mso-themecolor:" text1;="text1;" mso-fareast-font
 -family:="mso-fareast-font-family:" "Times=""Times" New="New" Roman";"="Rom
 an";""><span style="font-size: small;">Wine pairing: Pinot Evil Pinot Noir 
 - Chile</span></span></em></p><p style="text-align: center;"><span style="c
 olor: #000000; font-family: Times New Roman; font-size: small;"> </span></p
 ><p style="margin: 0in 0in 0pt; text-align: center;" align="center"><span s
 tyle="color: black; font-family: " font-size:="font-size:" 13.5pt;="13.5pt;
 " mso-themecolor:="mso-themecolor:" text1;="text1;" mso-fareast-font-family
 :="mso-fareast-font-family:" "Times=""Times" New="New" Roman";"="Roman";"">
  </span></p><p style="text-align: center;"><span style="color: #000000; fon
 t-family: Times New Roman; font-size: small;"> </span></p><p style="margin:
  0in 0in 0pt; text-align: center;" align="center"><strong style="mso-bidi-f
 ont-weight: normal;"><span style="color: black; font-family: " font-size:="
 font-size:" 13.5pt;="13.5pt;" mso-themecolor:="mso-themecolor:" text1;="tex
 t1;" mso-fareast-font-family:="mso-fareast-font-family:" "Times=""Times" Ne
 w="New" Roman";"="Roman";"">ARGENTINE SORBET</span></strong></p><p style="t
 ext-align: center;"><span style="color: #000000; font-family: Times New Rom
 an; font-size: small;"> </span></p><p style="margin: 0in 0in 0pt; text-alig
 n: center;" align="center"><strong style="mso-bidi-font-weight: normal;"><s
 pan style="color: black; font-family: " font-size:="font-size:" 13.5pt;="13
 .5pt;" mso-themecolor:="mso-themecolor:" text1;="text1;" mso-fareast-font-f
 amily:="mso-fareast-font-family:" "Times=""Times" New="New" Roman";"="Roman
 ";""> </span></strong></p><p style="text-align: center;"><span style="color
 : #000000; font-family: Times New Roman; font-size: small;"> </span></p><p 
 style="margin: 0in 0in 0pt; text-align: center;" align="center"><strong sty
 le="mso-bidi-font-weight: normal;"><span style="color: black; font-family: 
 " font-size:="font-size:" 13.5pt;="13.5pt;" mso-themecolor:="mso-themecolor
 :" text1;="text1;" mso-fareast-font-family:="mso-fareast-font-family:" "Tim
 es=""Times" New="New" Roman";"="Roman";"">MAIN</span></strong></p><p style=
 "text-align: center;"><span style="color: #000000; font-family: Times New R
 oman; font-size: small;"> </span></p><p style="margin: 0in 0in 0pt; text-al
 ign: center;" align="center"><span style="color: black; font-family: " font
 -size:="font-size:" 13.5pt;="13.5pt;" mso-themecolor:="mso-themecolor:" tex
 t1;="text1;" mso-fareast-font-family:="mso-fareast-font-family:" "Times=""T
 imes" New="New" Roman";"="Roman";"">SOUTH AMERICAN SURF & TURF</span></p><p
  style="text-align: center;"><span style="color: #000000; font-family: Time
 s New Roman; font-size: small;"> </span></p><p style="margin: 0in 0in 0pt; 
 text-align: center;" align="center"><span style="color: black; font-family:
  " font-size:="font-size:" 13.5pt;="13.5pt;" mso-themecolor:="mso-themecolo
 r:" text1;="text1;" mso-fareast-font-family:="mso-fareast-font-family:" "Ti
 mes=""Times" New="New" Roman";"="Roman";"">Pan seared Chilean sea bass, bla
 ck eyes peas, herb infused buttermilk ranch, shaved carrots and celery root
  puree </span></p><p style="text-align: center;"><span style="color: #00000
 0; font-family: Times New Roman; font-size: small;"> </span></p><p style="m
 argin: 0in 0in 0pt; text-align: center;" align="center"><em style="mso-bidi
 -font-style: normal;"><span style="color: black; font-family: " mso-themeco
 lor:="mso-themecolor:" text1;="text1;" mso-fareast-font-family:="mso-fareas
 t-font-family:" "Times=""Times" New="New" Roman";"="Roman";""><span style="
 font-size: small;">Wine pairing: Hacienda de Arinzano Rosé - Pago de Arinza
 no, Spain</span></span></em></p><p style="text-align: center;"><span style=
 "color: #000000; font-family: Times New Roman; font-size: small;"> </span><
 /p><p style="margin: 0in 0in 0pt; text-align: center;" align="center"><span
  style="color: black; font-family: " font-size:="font-size:" 13.5pt;="13.5p
 t;" mso-themecolor:="mso-themecolor:" text1;="text1;" mso-fareast-font-fami
 ly:="mso-fareast-font-family:" "Times=""Times" New="New" Roman";"="Roman";"
 ">+</span></p><p style="text-align: center;"><span style="color: #000000; f
 ont-family: Times New Roman; font-size: small;"> </span></p><p style="margi
 n: 0in 0in 0pt; text-align: center;" align="center"><span style="color: bla
 ck; font-family: " font-size:="font-size:" 13.5pt;="13.5pt;" mso-themecolor
 :="mso-themecolor:" text1;="text1;" mso-fareast-font-family:="mso-fareast-f
 ont-family:" "Times=""Times" New="New" Roman";"="Roman";"">Chimichurri skir
 t steak, fire roasted corn salsa, fried Milcaos (chilean potato pancake)</s
 pan></p><p style="text-align: center;"><span style="color: #000000; font-fa
 mily: Times New Roman; font-size: small;"> </span></p><p style="margin: 0in
  0in 0pt; text-align: center;" align="center"><em style="mso-bidi-font-styl
 e: normal;"><span style="color: black; font-family: " mso-themecolor:="mso-
 themecolor:" text1;="text1;" mso-fareast-font-family:="mso-fareast-font-fam
 ily:" "Times=""Times" New="New" Roman";"="Roman";""><span style="font-size:
  small;">Wine pairing: Salton Classic Tannat – Serra Gaucha, Brazil</span><
 /span></em></p><p style="text-align: center;"><span style="color: #000000; 
 font-family: Times New Roman; font-size: small;"> </span></p><p style="marg
 in: 0in 0in 0pt; text-align: center;" align="center"><strong style="mso-bid
 i-font-weight: normal;"><span style="color: black; font-family: " font-size
 :="font-size:" 13.5pt;="13.5pt;" mso-themecolor:="mso-themecolor:" text1;="
 text1;" mso-fareast-font-family:="mso-fareast-font-family:" "Times=""Times"
  New="New" Roman";"="Roman";""> </span></strong></p><p style="text-align: c
 enter;"><span style="color: #000000; font-family: Times New Roman; font-siz
 e: small;"> </span></p><p style="margin: 0in 0in 0pt; text-align: center;" 
 align="center"><strong style="mso-bidi-font-weight: normal;"><span style="c
 olor: black; font-family: " font-size:="font-size:" 13.5pt;="13.5pt;" mso-t
 hemecolor:="mso-themecolor:" text1;="text1;" mso-fareast-font-family:="mso-
 fareast-font-family:" "Times=""Times" New="New" Roman";"="Roman";"">DESSERT
 </span></strong></p><p style="text-align: center;"><span style="color: #000
 000; font-family: Times New Roman; font-size: small;"> </span></p><p style=
 "margin: 0in 0in 0pt; text-align: center;" align="center"><span style="colo
 r: black; font-family: " font-size:="font-size:" 13.5pt;="13.5pt;" mso-them
 ecolor:="mso-themecolor:" text1;="text1;" mso-fareast-font-family:="mso-far
 east-font-family:" "Times=""Times" New="New" Roman";"="Roman";"">TORTA DE M
 IL HOOJAS</span></p><p style="text-align: center;"><span style="color: #000
 000; font-family: Times New Roman; font-size: small;"> </span></p><p style=
 "margin: 0in 0in 0pt; text-align: center;" align="center"><span style="colo
 r: black; font-family: " font-size:="font-size:" 13.5pt;="13.5pt;" mso-them
 ecolor:="mso-themecolor:" text1;="text1;" mso-fareast-font-family:="mso-far
 east-font-family:" "Times=""Times" New="New" Roman";"="Roman";"">“Thousand 
 layer cake” Puff pastry sheets, walnuts, dulce de leche</span></p><p style=
 "text-align: center;"><span style="color: #000000; font-family: Times New R
 oman; font-size: small;"> </span></p><p style="margin: 0in 0in 0pt; text-al
 ign: center;" align="center"><em style="mso-bidi-font-style: normal;"><span
  style="color: black; font-family: " mso-themecolor:="mso-themecolor:" text
 1;="text1;" mso-fareast-font-family:="mso-fareast-font-family:" "Times=""Ti
 mes" New="New" Roman";"="Roman";""><span style="font-size: small;">Wine pai
 ring: Salton “Flowers” Demi Sec – Serra Gaucha, Brazil</span></span></em></
 p><p style="text-align: center;"><span style="color: #000000; font-family: 
 Times New Roman; font-size: small;"> </span></p><p style="margin: 0in 0in 0
 pt; text-align: center;" align="center"><span style="color: black; font-fam
 ily: " font-size:="font-size:" 13.5pt;="13.5pt;" mso-themecolor:="mso-theme
 color:" text1;="text1;" mso-fareast-font-family:="mso-fareast-font-family:"
  "Times=""Times" New="New" Roman";"="Roman";""> </span></p><p style="text-a
 lign: center;"><span style="color: #000000; font-family: Times New Roman; f
 ont-size: small;"> </span></p><p style="margin: 0in 0in 0pt; text-align: ce
 nter;" align="center"><span style="color: black; font-family: " font-size:=
 "font-size:" 13.5pt;="13.5pt;" mso-themecolor:="mso-themecolor:" text1;="te
 xt1;" mso-fareast-font-family:="mso-fareast-font-family:" "Times=""Times" N
 ew="New" Roman";"="Roman";"">$69.95 plus tax and 20% Staff Service Charge</
 span></p><p style="text-align: center;"><span style="color: #000000; font-f
 amily: Times New Roman; font-size: small;"> </span></p><p style="margin: 0i
 n 0in 0pt; text-align: center;" align="center"><span style="color: black; f
 ont-family: " font-size:="font-size:" 13.5pt;="13.5pt;" mso-themecolor:="ms
 o-themecolor:" text1;="text1;" mso-fareast-font-family:="mso-fareast-font-f
 amily:" "Times=""Times" New="New" Roman";"="Roman";""> </span></p><p style=
 "text-align: center;"><span style="color: #000000; font-family: Times New R
 oman; font-size: small;"> </span></p><p style="margin: 0in 0in 0pt; text-al
 ign: center;" align="center"><span style="color: black; font-family: " font
 -size:="font-size:" 13.5pt;="13.5pt;" mso-themecolor:="mso-themecolor:" tex
 t1;="text1;" mso-fareast-font-family:="mso-fareast-font-family:" "Times=""T
 imes" New="New" Roman";"="Roman";"">Reserve a Jacuzzi & Fireplace room that
  evening with wine dinner reservation and receive 25% off your room stay!</
 span></p><p style="text-align: center;"><span style="color: #000000; font-f
 amily: Times New Roman; font-size: small;"> </span></p>
CONTACT:651-436-8883

DTSTAMP:20260425T135758Z
DTSTART:20180310T003000Z
DTEND:20180310T033000Z
SEQUENCE:0
TRANSP:OPAQUE
END:VEVENT
END:VCALENDAR