BEGIN:VCALENDAR
VERSION:2.0
PRODID:-//jEvents 1.5 for Joomla//EN
CALSCALE:GREGORIAN
METHOD:PUBLISH
BEGIN:VEVENT

UID:d37fac00677606344981d57e5830bc2f
CATEGORIES:Swirl
SUMMARY:Wine Club Meet Up (6:00pm - 8:00pm)
LOCATION:Afton House Inn
DESCRIPTION;ENCODING=QUOTED-PRINTABLE:Wine Club Members Only\nJoin us at the Afton House Inn from 6 - 8pm for a f
 un wine club members social.  As always, we'll have a complimentary tasting
  of the featured wine club wines and complimentary light Hors d'oeuvres as 
 well as a cash bar and our fabulous menu available for small plates, entree
 's, and dessert.\n \n
CONTACT:
 
 
 
 
 This e-mail address is being protected from spambots. You need JavaScript enabled to view it
 
 
 

DTSTAMP:20260425T120532Z
DTSTART:20180406T230000Z
DTEND:20180407T010000Z
SEQUENCE:0
TRANSP:OPAQUE
END:VEVENT
END:VCALENDAR