BEGIN:VCALENDAR
VERSION:2.0
PRODID:-//jEvents 1.5 for Joomla//EN
CALSCALE:GREGORIAN
METHOD:PUBLISH
BEGIN:VEVENT

UID:d30b427b473099d28ea28ff8a73e4432
CATEGORIES:Swirl
SUMMARY:Valentine's 3-Course Dinner
LOCATION:Swirl Wine Club.Shop.Bar
DESCRIPTION;ENCODING=QUOTED-PRINTABLE: \nValentine's 3-Course Dinner\n \nwith sparkling wine reception at Swirl  
 \n \nTwo Seating’s: 6:00pm or 8:15pm – Wed Feb 14th\n \n\n \nPrix Fixe Menu
 :\n \nChampagne Reception \n \nWycliff Sparkling\n \n  \n \nSalad\n \nOrgan
 ic Green Salad with Craisins, Candied Mixed Nuts, Boursin Cheese and Poppy 
 Seed Dressing\n \n \n \nSurf and Turf\n \nBeef Bourguignon and Lobster En F
 uego\n \nBeef short ribs with demi-glace and sautéed mushrooms \n \nHalf Li
 ve Main Lobster stuffed with Orzo & topped with Panko Parmesan and Lobster 
 Cream\n \n\n Dessert\n \nMolten Chocolate Lava Cake with Pistachio Tuile\n 
 \n \n$55 per person\n \n \n \nReservations required by calling 651-436-8883
 \n \n \n \nJacuzzi & Fireplace rooms are available to make your evening com
 plete.\n \n
CONTACT:
 
 
 
 
 This e-mail address is being protected from spambots. You need JavaScript enabled to view it
 
 
 

DTSTAMP:20260425T134236Z
DTSTART:20180215T000000Z
DTEND:20180215T043000Z
SEQUENCE:0
TRANSP:OPAQUE
END:VEVENT
END:VCALENDAR