BEGIN:VCALENDAR
VERSION:2.0
PRODID:-//jEvents 1.5 for Joomla//EN
CALSCALE:GREGORIAN
METHOD:PUBLISH
BEGIN:VEVENT

UID:5d26eff1fe2dd2f6d697cb721e8d99a1
CATEGORIES:Swirl
SUMMARY:Closed for Staff Recognition
LOCATION:Swirl Wine Club.Shop.Bar
DESCRIPTION;ENCODING=QUOTED-PRINTABLE:Swirl will be closed Wednesday January 24th for staff recognition\n \n\n
CONTACT:
 
 
 
 
 This e-mail address is being protected from spambots. You need JavaScript enabled to view it
 
 
 

DTSTAMP:20260425T150650Z
DTSTART:20180124T220000Z
DTEND:20180125T030000Z
SEQUENCE:0
TRANSP:OPAQUE
END:VEVENT
END:VCALENDAR