BEGIN:VCALENDAR
VERSION:2.0
PRODID:-//jEvents 1.5 for Joomla//EN
CALSCALE:GREGORIAN
METHOD:PUBLISH
BEGIN:VEVENT

UID:b4180b396e9f8cc3a09caca7d16f6420
CATEGORIES:Swirl
SUMMARY:Chilean VIP Tasting Event
LOCATION:Swirl Wine Club.Shop.Bar
DESCRIPTION;ENCODING=QUOTED-PRINTABLE: \n        \n            Adam     Warriner\n  \n       \n      \n      \n  
 \n Click HERE to get Tickets Now! \n  \n Wine lineup for the     evening:\n
   \n Marques     De Casa Chardonnay\n *\n Casillero     Del Diablo Devils C
 ollection Red\n *\n Gran     Reserva Carmenere\n *\n Casillero     Del Diab
 lo Privada Cabernet-Syrah\n *\n Gran     Reserva Cabernet Sauvignon \n *\n 
 Marques     De Casa Cabernet Sauvignon\n *\n Terrunyo\n Cabernet     Sauvig
 non\n *\n Don     Melchor\n Cabernet     Sauvignon\n  \n  \n  \n  \n       
       Swirl     welcomes \n  Concha     y Toro Regional Ambassador Adam War
 riner for a special VIP     Tasting of wines from Chile\n You are cordially
  invited \n \n Monday, January 22nd\n 6:00     to 8pm at Swirl\n     \n    
    \n    We are excited     for our upcoming wine trip to Chile/Argentina i
 n February and are also     excited for this special Chilean VIP Tasting ev
 ent at Swirl.  This is     going to be an unbelievable line up of Chilean w
 ines!  Join us     and welcome Adam Warriner for a special VIP tasting of n
 ine fantastic     wines, enlightenment, and good times.  \n Gran Reserva Sa
 uvignon Blanc reception at 6pm\n *\n Seated tasting of  8 wines from 6:30 -
  8pm, a     discussion with Adam, and of course a great time!\n     \n     
   \n    Get Tickets HERE!!\n \n $30 per person\n Limited to max of 30 peopl
 e\n       \n
CONTACT:
 
 
 
 
 This e-mail address is being protected from spambots. You need JavaScript enabled to view it
 
 
 

DTSTAMP:20260425T152703Z
DTSTART:20180123T000000Z
DTEND:20180123T020000Z
SEQUENCE:0
TRANSP:OPAQUE
END:VEVENT
END:VCALENDAR