BEGIN:VCALENDAR
VERSION:2.0
PRODID:-//jEvents 1.5 for Joomla//EN
CALSCALE:GREGORIAN
METHOD:PUBLISH
BEGIN:VEVENT

UID:61fbeef0a4d53ff0f3f3647b62d31816
CATEGORIES:Swirl
SUMMARY:VIP Tasting Event - Famiglia Meschini 
LOCATION:Swirl Wine Club.Shop.Bar
DESCRIPTION;ENCODING=QUOTED-PRINTABLE: \n       \n                \n            Teresa & Eugenio\n Meschini\n  \n
        \n      \n      \n  \n Click HERE to get Tickets Now! \n  \n  Meschi
 ni       wine lineup for the evening:\n  \n Torrontes\n *\n Chardonnay Rese
 rva\n *\n Malbec - Syrah\n *\n Malbec Reserva\n *\n Cabernet Sauvignon Rese
 rva \n *\n Gran Pacifico Reserva\n  \n  \n  \n  \n             Swirl welcom
 es \n  owners Teresa & Eugenio Meschini from Famiglia       Meschini in Men
 doza, Argentina for a special VIP Tasting Event at Swirl\n You are cordiall
 y invited \n \n Monday, October 23rd\n 6:00 to 8pm\n     \n       \n    We 
 are excited for our upcoming wine club       trip to Argentina & Chile in F
 ebruary and are also excited to       welcome owners Teresa & Eugenio Mesch
 ini for a special VIP       tasting event at Swirl.  Join us for an exclusi
 ve tasting       of six wines and welcome the Meschini's to Swirl for an   
     outstanding evening of enlightenment and good times.  \n Sparkling wine
  reception beginning at 6pm\n *\n Seated tasting of  6 wines from 6:30 -   
     8pm, a discussion with Teresa & Eugenio, and of course a great time!\n 
  \n     \n       \n    Get Tickets HERE!!\n \n $20 per person\n Strictly Li
 mited to max of 30 people\n           \n
CONTACT:
 
 
 
 
 This e-mail address is being protected from spambots. You need JavaScript enabled to view it
 
 
 

DTSTAMP:20260425T190724Z
DTSTART:20171023T230000Z
DTEND:20171024T010000Z
SEQUENCE:0
TRANSP:OPAQUE
END:VEVENT
END:VCALENDAR