BEGIN:VCALENDAR
VERSION:2.0
PRODID:-//jEvents 1.5 for Joomla//EN
CALSCALE:GREGORIAN
METHOD:PUBLISH
BEGIN:VEVENT

UID:ba1662d8a9b8c259144129dcc3b70aee
CATEGORIES:Swirl
SUMMARY:VIP Winemaker Event - Maysara Winery
LOCATION:
DESCRIPTION;ENCODING=QUOTED-PRINTABLE: \n        \n            Tahmiene     Momtazi\n Maysara     Winery\n      \
 n Learn more about the winemaker \n  \n  \n      \n      \n  \n Click HERE 
 to get Tickets Now! \n  \n  Maysara wine lineup     for the evening:\n  \n 
 Arsheen     Pinot Gris\n *\n Autees     Pinot Blanc\n *\n Anahita     Riesl
 ing\n *\n 3     Degrees Pinot Noir\n *\n Jamsheed     Pinot Noir\n *\n Asha
      Pinot Noir\n  \n  \n  \n  \n             Swirl     welcomes family \n 
 owner     / winemaker \n Tahmiene     Momtazi from Willamette Valley, Orego
 n for a special VIP Tasting Event     at Swirl\n You are cordially invited 
 \n \n Monday, July 17th\n 6:00     to 8pm\n     \n       \n     \n Our dive
  into Willamette Valley gets a spark as we     welcome family owner and cer
 tainly rising star winemaker Tahmiene Momtazi     from Maysara Winery.  Tah
 miene is flying to Minnesota from Oregon to     join us at Swirl for a spec
 ial night of insight into her families wines and     the McMinnville AVA of
  Willamette Valley, Oregon. Join us and welcome     Tahmiene to Swirl for a
 n outstanding evening of great wine,     enlightenment and good times.  \n 
 Sparkling wine reception beginning at 6pm\n *\n Seated tasting of  6 wines 
 from 6:30 - 8pm, a     discussion with Tahmiene, and of course a great time
 !\n  \n     \n       \n    Get Tickets HERE!!\n \n $20 per person\n Strictl
 y Limited to max of 30 people\n       \n

DTSTAMP:20260425T232739Z
DTSTART:20170717T230000Z
DTEND:20170718T010000Z
SEQUENCE:0
TRANSP:OPAQUE
END:VEVENT
END:VCALENDAR