BEGIN:VCALENDAR
VERSION:2.0
PRODID:-//jEvents 1.5 for Joomla//EN
CALSCALE:GREGORIAN
METHOD:PUBLISH
BEGIN:VEVENT

UID:34fe14169c3589b197870c9c8ef02d8b
CATEGORIES:Swirl
SUMMARY:SOLD OUT... Mini Pinot Camp - VIP Tasting Event
LOCATION:Swirl Wine Club.Shop.Bar
DESCRIPTION;ENCODING=QUOTED-PRINTABLE: \n                 \n                     \n             Scott Neal\n Coeu
 r de Terre Vineyard\n   \n Learn       about Scott \n  \n  \n    \n        
     \n  \n Click HERE to get Tickets Now! \n  \n  Wine       lineup for the
  evening:\n  \n Pinot Gris\n *\n Rose'\n *\n WV Pinot Noir\n *\n Heritage R
 eserve Pinot\n *\n Abbey's Block Pinot Noir\n *\n Renelle's Block Pinot Noi
 r\n  \n  \n  \n  \n          Swirl welcomes Owner and Winemaker Scott      
  Neal from Willamette Valley, Oregon for a special Mini Pinot       Camp an
 d \n VIP Tasting Event at Swirl\n You are cordially invited \n \n Monday, J
 une 12th\n 6:00 to 8pm\n   \n        \n        \n Camp can be for adults to
 o right?  We are       excited for this mini 2 hour camp, in adult fashion!
   Learn from       owner/winemaker Scott Neal about the history, geology, g
 eography and       winemaking prowess of Willamette Valley, Oregon.  Scott 
 will       also lead us through a seated tasting of 6 wines as we dive into
        this highly anticipated Oregon "mini-pinot camp".  \n Sparkling wine
  reception beginning at 6pm\n *\n Seated tasting of  6 wines from 6:30 -   
     8pm, a discussion with Scott, and of course a great time!\n  \n   \n   
      \n       Get Tickets HERE!!\n \n $20 per person\n Strictly Limited to 
 max of 30 people\n     \n
CONTACT:
 
 
 
 
 This e-mail address is being protected from spambots. You need JavaScript enabled to view it
 
 
 

DTSTAMP:20260426T003738Z
DTSTART:20170612T230000Z
DTEND:20170613T010000Z
SEQUENCE:0
TRANSP:OPAQUE
END:VEVENT
END:VCALENDAR