BEGIN:VCALENDAR
VERSION:2.0
PRODID:-//jEvents 1.5 for Joomla//EN
CALSCALE:GREGORIAN
METHOD:PUBLISH
BEGIN:VEVENT

UID:5c5c9946d6f02014c7b8b24ef8011b51
CATEGORIES:Swirl
SUMMARY:Mother's Day Brunch
LOCATION:Swirl Wine Club.Shop.Bar
DESCRIPTION;ENCODING=QUOTED-PRINTABLE:<h2 class="tribe-events-single-event-title summary entry-title" style="text
 -align: center;">Mother’s Day Brunch Buffet</h2><div class="tribe-events-sc
 hedule updated published tribe-clearfix" style="text-align: center;"><h3 st
 yle="text-align: center;"><span class="tribe-event-date-start">May 14 @ 10:
 00 am</span> - 3<span class="tribe-event-time">:00 pm</span></h3></div><div
  class="tribe-events-single-event-description tribe-events-content entry-co
 ntent description" style="text-align: center;"><p style="text-align: center
 ;"><strong><br /> Reservations Required<br /> Call 651-436-8883 Today</stro
 ng></p><p style="text-align: center;"><em><strong>Mother’s Day Buffet Menu<
 /strong></em><br /> · Assorted Domestic Cheese and Crackers<br /> · Charcut
 erie Assortment with Marinated Olives<br /> · Assorted Fresh Fruits and Ber
 ries<br /> · Fresh Vegetable Crudité with 5-herb Ranch<br /> · Garnished Co
 ld Smoked Salmon<br /> · Afton House Inn Caesar Salad with Parmesan Crouton
 s<br /> · Italian Pasta Salad<br /> · Afton House Eggs Benedict with Paprik
 a Hollandaise<br /> · Cage Free Scrambled Eggs<br /> · Crispy Potatoes with
  Caramelized Onions and Fresh Parsley<br /> ·  Vanilla Waffles with Maple S
 yrup<br /> · Smoked Kielbasa and Sausage Links<br /> · Brussel Sprouts with
  Bacon and Onion<br /> · Mashed Potatoes<br /> · Beef Marsala with Wild Mus
 hrooms<br /> · Seared Chicken Breast with Sweet Basil Peso and Heirloom Tom
 atoes<br /> · Baked Cod with Lemon Caper Sauce<br /> · 3-Cheese Penne Pasta
 <br /> · Pastries and Desserts</p><p style="text-align: center;">Rolls and 
 Butter</p><p style="text-align: center;">Adults $28     Children 10-3 $15  
    Tots 2 and under $9<br /> *Menu and Prices subject to change (20% gratui
 ty on groups of eight or more)</p><p style="text-align: center;">Cocktails 
 and Beverages are extra</p></div>
CONTACT:651-436-8883

DTSTAMP:20260426T021535Z
DTSTART:20170514T150000Z
DTEND:20170514T200000Z
SEQUENCE:0
TRANSP:OPAQUE
END:VEVENT
END:VCALENDAR