BEGIN:VCALENDAR
VERSION:2.0
PRODID:-//jEvents 1.5 for Joomla//EN
CALSCALE:GREGORIAN
METHOD:PUBLISH
BEGIN:VEVENT

UID:8b7e7b6b40cefe8bd343e5608d8f1d57
CATEGORIES:Swirl
SUMMARY:VIP Tasting Event - Cooper Mountain Vineyards
LOCATION:Swirl Wine Club.Shop.Bar
DESCRIPTION;ENCODING=QUOTED-PRINTABLE: \n      \n             Michael     Hughes\n     \n Learn     about Cooper 
 Mountain\n  \n  \n      \n     Click here to get Tickets Now! \n \n  \n Sea
 ted     Tasting Lineup for the Evening:\n  \n Cooper     Hill Pinot Gris\n 
  \n Old Vine     Chardonnay\n  \n Cooper     Hill Pinot Noir\n  \n Cooper  
    Mountain Pinot Noir\n *\n Meadowlark     Pinot Noir\n  \n Life     Pinot
  Noir\n  \n             Swirl     welcomes national ambassador Michael Hugh
 es from Cooper     Mountain Vineyards in Willamette Valley, Oregon for a sp
 ecial Memorial Day,     VIP tasting event\n \n Monday, May 29th from 6 -8pm
 \n     \n       \n    Cooper Mountain Vineyards was one the first Biodynami
 c     Wineries in the US and has really set the bar in organic,     sustain
 able and biodynamic wine grape farming. We are excited to     welcome their
  national ambassador, Michael Hughes to lead us through a     seated tastin
 g of six superb wines as we dive deep into organic     and biodynamic pract
 ices.  This will be a REALLY fun event for sure     with jam packed, enligh
 tening education on biodynamics!\n     \n       \n    Sparkling wine recept
 ion beginning at 6pm\n *\n Seated tasting of 6 wines from 6:30 - 8pm, a dis
 cussion     with Michael and of course a great time!\n \n Get Tickets Here!
 !\n \n $20 per person\n Limited to strict max 30 people\n     \n         \n
CONTACT:
 
 
 
 
 This e-mail address is being protected from spambots. You need JavaScript enabled to view it
 
 
 

DTSTAMP:20260426T021228Z
DTSTART:20170529T230000Z
DTEND:20170530T010000Z
SEQUENCE:0
TRANSP:OPAQUE
END:VEVENT
END:VCALENDAR