BEGIN:VCALENDAR
VERSION:2.0
PRODID:-//jEvents 1.5 for Joomla//EN
CALSCALE:GREGORIAN
METHOD:PUBLISH
BEGIN:VEVENT

UID:fe26622d146f8c3d5a4a828a80d1295b
CATEGORIES:Swirl
SUMMARY:Winemaker VIP Tasting Event
LOCATION:Swirl Wine Club.Shop.Bar
DESCRIPTION;ENCODING=QUOTED-PRINTABLE: \n       \n              \n             Kristina Werner\n      \n Learn ab
 out Kristina\n      \n     Click here to get Tickets Now! \n \n  \n Seated 
 Tasting Lineup for the Evening:\n  \n Sonoma County Chardonnay\n  \n Late H
 arvest Riesling\n  \n Sonoma Estates Cabernet\n  \n Knights Valley Cabernet
 \n *\n Saralee Vineyard Syrah\n  \n Reserve Speciale Cabernet\n  \n        
      Swirl welcomes winemaker Kristina       Werner from Arrowood Vineyards
  and Winery in Sonoma Valley, CA       for a special VIP tasting event\n \n
  Monday, May 1st from 6 -8pm\n     \n       \n    We are excited to       w
 elcome winemaker Kristina Werner from Sonoma Valley! She       will lead us
  through an exploration of Sonoma       County as we taste through 6 remark
 able wines and learn       about Arrowood's sustainable and organically far
 med vineyards west       of the Mayacamas Mountain Range. \n     \n       \
 n    Sparkling wine reception beginning at 6pm\n *\n Seated tasting of 6 wi
 nes from 6:30 - 8pm, a       discussion with Kristina and of course a great
  time!\n \n Get Tickets Here!!\n \n $20 per person\n Limited to strict max 
 30 people\n     \n             \n
CONTACT:
 
 
 
 
 This e-mail address is being protected from spambots. You need JavaScript enabled to view it
 
 
 

DTSTAMP:20260426T021130Z
DTSTART:20170501T230000Z
DTEND:20170502T010000Z
SEQUENCE:0
TRANSP:OPAQUE
END:VEVENT
END:VCALENDAR