BEGIN:VCALENDAR
VERSION:2.0
PRODID:-//jEvents 1.5 for Joomla//EN
CALSCALE:GREGORIAN
METHOD:PUBLISH
BEGIN:VEVENT

UID:2db338b7df441e6e01179a17b832ec26
CATEGORIES:Swirl
SUMMARY:No wine dinner tonight - sorry for website glitch
LOCATION:Afton House Inn
DESCRIPTION;ENCODING=QUOTED-PRINTABLE:<p style="text-align: center;">No wine dinner tonight - sorry for website g
 litch</p><p style="text-align: center;"> </p><p style="text-align: center;"
 >The Mediterranean Wine Dinner is this coming Friday April 21st</p>
CONTACT:651-436-8883

DTSTAMP:20260426T032959Z
DTSTART:20170416T230000Z
DTEND:20170417T030000Z
SEQUENCE:0
TRANSP:OPAQUE
END:VEVENT
END:VCALENDAR