BEGIN:VCALENDAR
VERSION:2.0
PRODID:-//jEvents 1.5 for Joomla//EN
CALSCALE:GREGORIAN
METHOD:PUBLISH
BEGIN:VEVENT

UID:399ffcac9662346fd69cce1ba93421ed
CATEGORIES:Swirl
SUMMARY:Easter Brunch
LOCATION:Swirl Wine Club.Shop.Bar
DESCRIPTION;ENCODING=QUOTED-PRINTABLE: \n        \n      \n     \n           \n           \n             \n      
          \n      \n     H A P P Y E A S T E R\n      \n     Hop on over to 
           Swirl for brunch this coming Easter Sunday!\n We have           a
  fabulous Easter Brunch Buffet from 10am - 3pm. \n  \n Simply Call         
   us at 651-436-8883 for reservations!\n      \n     \n      \n     Adults 
           $27  Children 3 - 10 yrs $15  Tots 2 and           under $9\n Res
 ervations           by calling 651-436-8883\n  \n  \n  E A S T E R  M E N U
  \n  \n Assorted Domestic Cheese and Crackers\n Charcuterie Assortment with
  Marinated Olives\n Assorted Fresh Fruits and Berries\n Fresh Vegetable Cru
 dité with 5-herb Ranch\n Cold Smoked Salmon with Traditional Garnishments\n
  Afton House Inn Caesar Salad with Parmesan Croutons\n Italian Pasta Salad\
 n Afton House Eggs Benedict with Paprika Hollandaise\n Cage Free Scrambled 
 Eggs\n Crispy Potatoes with Caramelized Onions and Fresh Parsley\n Fruit Fi
 lled Pancakes\n Smoked Kielbasa and Sausage\n Fresh Green Beans & Carrots w
 ith Brown Butter\n Mashed Skin-On Potatoes (after 1pm)\n Beef Pot Roast Dia
 ne\n Seared Chicken Breast with Spring Onion Pesto\n Nature's Nectar Honey 
 and Clove Pit Ham\n Baked Cod with Caper Butter\n 3-Cheese Penne Pasta\n As
 sorted Pastries and Desserts\n  \n  \n  \n --------------------------------
 \n  \n  \n Easter           cheers and best wishes from all of us here at S
 wirl !\n www.swirlmywine.com\n \n             \n               \n         \
 n
CONTACT:651-436-8883

DTSTAMP:20260426T032628Z
DTSTART:20170416T150000Z
DTEND:20170416T200000Z
SEQUENCE:0
TRANSP:OPAQUE
END:VEVENT
END:VCALENDAR